BEGIN:VCALENDAR
VERSION:2.0
PRODID:-//6 Brick&#039;s - ECPv6.15.18//NONSGML v1.0//EN
CALSCALE:GREGORIAN
METHOD:PUBLISH
X-WR-CALNAME:6 Brick&#039;s
X-ORIGINAL-URL:https://6-bricks-staging.rankreallyhigh.dev
X-WR-CALDESC:Events for 6 Brick&#039;s
REFRESH-INTERVAL;VALUE=DURATION:PT1H
X-Robots-Tag:noindex
X-PUBLISHED-TTL:PT1H
BEGIN:VTIMEZONE
TZID:America/New_York
BEGIN:DAYLIGHT
TZOFFSETFROM:-0500
TZOFFSETTO:-0400
TZNAME:EDT
DTSTART:20220313T070000
END:DAYLIGHT
BEGIN:STANDARD
TZOFFSETFROM:-0400
TZOFFSETTO:-0500
TZNAME:EST
DTSTART:20221106T060000
END:STANDARD
BEGIN:DAYLIGHT
TZOFFSETFROM:-0500
TZOFFSETTO:-0400
TZNAME:EDT
DTSTART:20230312T070000
END:DAYLIGHT
BEGIN:STANDARD
TZOFFSETFROM:-0400
TZOFFSETTO:-0500
TZNAME:EST
DTSTART:20231105T060000
END:STANDARD
BEGIN:DAYLIGHT
TZOFFSETFROM:-0500
TZOFFSETTO:-0400
TZNAME:EDT
DTSTART:20240310T070000
END:DAYLIGHT
BEGIN:STANDARD
TZOFFSETFROM:-0400
TZOFFSETTO:-0500
TZNAME:EST
DTSTART:20241103T060000
END:STANDARD
END:VTIMEZONE
BEGIN:VEVENT
DTSTART;TZID=America/New_York:20230224T153000
DTEND;TZID=America/New_York:20230224T173000
DTSTAMP:20260423T024839
CREATED:20230131T194320Z
LAST-MODIFIED:20230131T194320Z
UID:10000022-1677252600-1677259800@6-bricks-staging.rankreallyhigh.dev
SUMMARY:Betty's Eddies Pop-up!
DESCRIPTION:Come join us for a Betty’s Eddies Pop-up on Feb. 24th (3:30PM-5:30PM) at 6Brick’s Dispensary 1860 Main St\, Springfield\, MA. \n  \n\nSince the Betty Beginning…\n\nOur team has been committed to making Betty’s Eddies™ products with you in mind. Our mission is simple: craft the highest quality\, best-tasting products with conscious ingredients to fit a variety of diets\, needs & lifestyles. Our cannabis fruit chews are vegan\, gluten-free & dairy-free\, and made with organic fruits and veggies. \nChews natural goodness with Betty’s Eddies™!  \n\nSweetening up the edibles market since 2014….\n\nOur tenure as the industry’s first full-spectrum\, all-natural fruit chew has taught us a lot. Most importantly\, to never settle for anything short of perfect. We knew cannabis edibles could deliver a more satisfying\, more impactful experience\, something more elevated than just a gummy. We were looking for something better\, so we created something Betty! Our cannabis fruit chews are handcrafted to deliver a deliciously sweet experience\, created to help you feel your Betty best self no matter what life throws at you.
URL:https://6-bricks-staging.rankreallyhigh.dev/event/bettys-eddies-pop-up/
LOCATION:6 Brick’s Dispensary\, 1860 Main St\, Springfield\, MA\, 01103\, United States
ATTACH;FMTTYPE=image/png:https://6-bricks-staging.rankreallyhigh.dev/wp-content/uploads/2023/01/P_tPMHI-e1675192477481.png
END:VEVENT
END:VCALENDAR