BEGIN:VCALENDAR
VERSION:2.0
PRODID:-//6 Brick&#039;s - ECPv6.15.18//NONSGML v1.0//EN
CALSCALE:GREGORIAN
METHOD:PUBLISH
X-ORIGINAL-URL:https://6-bricks-staging.rankreallyhigh.dev
X-WR-CALDESC:Events for 6 Brick&#039;s
REFRESH-INTERVAL;VALUE=DURATION:PT1H
X-Robots-Tag:noindex
X-PUBLISHED-TTL:PT1H
BEGIN:VTIMEZONE
TZID:America/New_York
BEGIN:DAYLIGHT
TZOFFSETFROM:-0500
TZOFFSETTO:-0400
TZNAME:EDT
DTSTART:20220313T070000
END:DAYLIGHT
BEGIN:STANDARD
TZOFFSETFROM:-0400
TZOFFSETTO:-0500
TZNAME:EST
DTSTART:20221106T060000
END:STANDARD
BEGIN:DAYLIGHT
TZOFFSETFROM:-0500
TZOFFSETTO:-0400
TZNAME:EDT
DTSTART:20230312T070000
END:DAYLIGHT
BEGIN:STANDARD
TZOFFSETFROM:-0400
TZOFFSETTO:-0500
TZNAME:EST
DTSTART:20231105T060000
END:STANDARD
BEGIN:DAYLIGHT
TZOFFSETFROM:-0500
TZOFFSETTO:-0400
TZNAME:EDT
DTSTART:20240310T070000
END:DAYLIGHT
BEGIN:STANDARD
TZOFFSETFROM:-0400
TZOFFSETTO:-0500
TZNAME:EST
DTSTART:20241103T060000
END:STANDARD
END:VTIMEZONE
BEGIN:VEVENT
DTSTART;TZID=America/New_York:20230302T150000
DTEND;TZID=America/New_York:20230302T180000
DTSTAMP:20260423T012554
CREATED:20230219T212843Z
LAST-MODIFIED:20230219T212843Z
UID:10000023-1677769200-1677780000@6-bricks-staging.rankreallyhigh.dev
SUMMARY:Fathom Cannabis Pop-up
DESCRIPTION:Come join us for a Fathom Cannabis Pop-up on March 2nd (3:00PM-6:00PM) at 6Brick’s Dispensary 1860 Main St\, Springfield\, MA. \n\n\nOur flowers are deep.\n\n\n\n\nSun grown craft cannabis carefully selected for its complexity. \nRicher flavors and a spectrum of effects. \n\n\nPure Essence\n\n\n\n\nHandmade concentrates using a mix of traditional techniques\, modern technology and no solvents.
URL:https://6-bricks-staging.rankreallyhigh.dev/event/fathom-cannabis-pop-up/
LOCATION:6 Brick’s Dispensary\, 1860 Main St\, Springfield\, MA\, 01103\, United States
ATTACH;FMTTYPE=image/png:https://6-bricks-staging.rankreallyhigh.dev/wp-content/uploads/2023/02/LOGOFATHOM_LOGOFATHOM-1.png
END:VEVENT
END:VCALENDAR