BEGIN:VCALENDAR
VERSION:2.0
PRODID:-//6 Brick&#039;s - ECPv6.15.18//NONSGML v1.0//EN
CALSCALE:GREGORIAN
METHOD:PUBLISH
X-ORIGINAL-URL:https://6-bricks-staging.rankreallyhigh.dev
X-WR-CALDESC:Events for 6 Brick&#039;s
REFRESH-INTERVAL;VALUE=DURATION:PT1H
X-Robots-Tag:noindex
X-PUBLISHED-TTL:PT1H
BEGIN:VTIMEZONE
TZID:America/New_York
BEGIN:DAYLIGHT
TZOFFSETFROM:-0500
TZOFFSETTO:-0400
TZNAME:EDT
DTSTART:20220313T070000
END:DAYLIGHT
BEGIN:STANDARD
TZOFFSETFROM:-0400
TZOFFSETTO:-0500
TZNAME:EST
DTSTART:20221106T060000
END:STANDARD
BEGIN:DAYLIGHT
TZOFFSETFROM:-0500
TZOFFSETTO:-0400
TZNAME:EDT
DTSTART:20230312T070000
END:DAYLIGHT
BEGIN:STANDARD
TZOFFSETFROM:-0400
TZOFFSETTO:-0500
TZNAME:EST
DTSTART:20231105T060000
END:STANDARD
BEGIN:DAYLIGHT
TZOFFSETFROM:-0500
TZOFFSETTO:-0400
TZNAME:EDT
DTSTART:20240310T070000
END:DAYLIGHT
BEGIN:STANDARD
TZOFFSETFROM:-0400
TZOFFSETTO:-0500
TZNAME:EST
DTSTART:20241103T060000
END:STANDARD
END:VTIMEZONE
BEGIN:VEVENT
DTSTART;TZID=America/New_York:20230413T090000
DTEND;TZID=America/New_York:20230413T210000
DTSTAMP:20260423T012432
CREATED:20230326T161702Z
LAST-MODIFIED:20230411T195727Z
UID:10000032-1681376400-1681419600@6-bricks-staging.rankreallyhigh.dev
SUMMARY:413 Day
DESCRIPTION:6 Brick’s is proud to be in the 413! As a thank you\, every day leading up to 420 we will be offering something different as we countdown to 420. \n  \nDon’t miss out on these special offers and festivities!
URL:https://6-bricks-staging.rankreallyhigh.dev/event/413-day/
LOCATION:MA
ATTACH;FMTTYPE=image/jpeg:https://6-bricks-staging.rankreallyhigh.dev/wp-content/uploads/2023/03/4132-100.jpg
END:VEVENT
BEGIN:VEVENT
DTSTART;TZID=America/New_York:20230413T150000
DTEND;TZID=America/New_York:20230413T180000
DTSTAMP:20260423T012432
CREATED:20230106T155943Z
LAST-MODIFIED:20230413T135615Z
UID:10000012-1681398000-1681408800@6-bricks-staging.rankreallyhigh.dev
SUMMARY:Standard Farms pop-up
DESCRIPTION:Come join us for a Standard Farms Pop-up on April 13th from 3pm-6pm 6Brick’s Dispensary 1860 Main St\, Springfield\, MA \n\nFrom Farm to Patient\n\n\nOne of the first medical marijuana growers in Pennsylvania\, Standard Farms has specialized in cultivating and extracting pure\, organic and natural medical cannabis products since the very start. As a standard bearer of quality\, Standard Farms offers a variety of strains\, cartridges\, tinctures\, and capsules for medical cannabis patients in Pennsylvania and Ohio. \nPatient-centered care is paramount for the brand; the founders designed simple iconography to assist patients in easily finding the formulation that’s right for them. Standard Farms pledges to only use natural ingredients through extraction and cultivation\, including medical cannabis derived cannabinoids and terpenes expertly grown and extracted from medical cannabis at Standard Farms. Products are tested in-house and in licensed laboratories\, to ensure product efficacy\, consistency\, and quality. A truly modern marijuana company built on innovation.
URL:https://6-bricks-staging.rankreallyhigh.dev/event/standard-farms-pop-up/
LOCATION:6 Brick’s Dispensary\, 1860 Main St\, Springfield\, MA\, 01103\, United States
ATTACH;FMTTYPE=image/png:https://6-bricks-staging.rankreallyhigh.dev/wp-content/uploads/2023/01/Standard-farms.png
END:VEVENT
END:VCALENDAR