BEGIN:VCALENDAR
VERSION:2.0
PRODID:-//6 Brick&#039;s - ECPv6.15.18//NONSGML v1.0//EN
CALSCALE:GREGORIAN
METHOD:PUBLISH
X-ORIGINAL-URL:https://6-bricks-staging.rankreallyhigh.dev
X-WR-CALDESC:Events for 6 Brick&#039;s
REFRESH-INTERVAL;VALUE=DURATION:PT1H
X-Robots-Tag:noindex
X-PUBLISHED-TTL:PT1H
BEGIN:VTIMEZONE
TZID:America/New_York
BEGIN:DAYLIGHT
TZOFFSETFROM:-0500
TZOFFSETTO:-0400
TZNAME:EDT
DTSTART:20220313T070000
END:DAYLIGHT
BEGIN:STANDARD
TZOFFSETFROM:-0400
TZOFFSETTO:-0500
TZNAME:EST
DTSTART:20221106T060000
END:STANDARD
BEGIN:DAYLIGHT
TZOFFSETFROM:-0500
TZOFFSETTO:-0400
TZNAME:EDT
DTSTART:20230312T070000
END:DAYLIGHT
BEGIN:STANDARD
TZOFFSETFROM:-0400
TZOFFSETTO:-0500
TZNAME:EST
DTSTART:20231105T060000
END:STANDARD
BEGIN:DAYLIGHT
TZOFFSETFROM:-0500
TZOFFSETTO:-0400
TZNAME:EDT
DTSTART:20240310T070000
END:DAYLIGHT
BEGIN:STANDARD
TZOFFSETFROM:-0400
TZOFFSETTO:-0500
TZNAME:EST
DTSTART:20241103T060000
END:STANDARD
END:VTIMEZONE
BEGIN:VEVENT
DTSTART;TZID=America/New_York:20230415T120000
DTEND;TZID=America/New_York:20230415T150000
DTSTAMP:20260422T232553
CREATED:20230326T164256Z
LAST-MODIFIED:20230326T164256Z
UID:10000036-1681560000-1681570800@6-bricks-staging.rankreallyhigh.dev
SUMMARY:Ocean Breeze Pop-up
DESCRIPTION:Come join us for an Ocean Breeze Pop-up on April 15th from 12pm-3pm at 6Brick’s Dispensary 1860 Main St\, Springfield\, MA. \nOcean Breeze is a family-run cannabis company located in Gloucester — the second largest fishing port in the country\, on the North Shore of Massachusetts. Inspired by the hard work and grit that runs through the town’s history and its people\, we landed here to build our flagship space and share our storied cannabis with the community. Our team is an extension of our family — a group of people who share our motivation to work hard and work together. Our goal is to provide a deeper and more layered experience for our customers — one they won’t find anywhere else.
URL:https://6-bricks-staging.rankreallyhigh.dev/event/ocean-breeze-pop-up/
LOCATION:6 Brick’s Dispensary\, 1860 Main St\, Springfield\, MA\, 01103\, United States
ATTACH;FMTTYPE=image/png:https://6-bricks-staging.rankreallyhigh.dev/wp-content/uploads/2023/03/fishemanBg1.png
END:VEVENT
END:VCALENDAR