BEGIN:VCALENDAR
VERSION:2.0
PRODID:-//6 Brick&#039;s - ECPv6.15.18//NONSGML v1.0//EN
CALSCALE:GREGORIAN
METHOD:PUBLISH
X-WR-CALNAME:6 Brick&#039;s
X-ORIGINAL-URL:https://6-bricks-staging.rankreallyhigh.dev
X-WR-CALDESC:Events for 6 Brick&#039;s
REFRESH-INTERVAL;VALUE=DURATION:PT1H
X-Robots-Tag:noindex
X-PUBLISHED-TTL:PT1H
BEGIN:VTIMEZONE
TZID:America/New_York
BEGIN:DAYLIGHT
TZOFFSETFROM:-0500
TZOFFSETTO:-0400
TZNAME:EDT
DTSTART:20220313T070000
END:DAYLIGHT
BEGIN:STANDARD
TZOFFSETFROM:-0400
TZOFFSETTO:-0500
TZNAME:EST
DTSTART:20221106T060000
END:STANDARD
BEGIN:DAYLIGHT
TZOFFSETFROM:-0500
TZOFFSETTO:-0400
TZNAME:EDT
DTSTART:20230312T070000
END:DAYLIGHT
BEGIN:STANDARD
TZOFFSETFROM:-0400
TZOFFSETTO:-0500
TZNAME:EST
DTSTART:20231105T060000
END:STANDARD
BEGIN:DAYLIGHT
TZOFFSETFROM:-0500
TZOFFSETTO:-0400
TZNAME:EDT
DTSTART:20240310T070000
END:DAYLIGHT
BEGIN:STANDARD
TZOFFSETFROM:-0400
TZOFFSETTO:-0500
TZNAME:EST
DTSTART:20241103T060000
END:STANDARD
END:VTIMEZONE
BEGIN:VEVENT
DTSTART;TZID=America/New_York:20230428T140000
DTEND;TZID=America/New_York:20230428T170000
DTSTAMP:20260422T220009
CREATED:20230426T131650Z
LAST-MODIFIED:20230426T131650Z
UID:10000038-1682690400-1682701200@6-bricks-staging.rankreallyhigh.dev
SUMMARY:PAX Pop-up
DESCRIPTION:Come join us for a PAX Pop-up on April 28th from 2-5pm at 6Brick’s Dispensary 1860 Main St\, Springfield\, MA. \n  \nPAX is all about celebrating the many benefits of the flower. But we cannot overlook some of the sobering aspects of our industry. Our products are crafted to protect the pure essence of the plant. And we place the same\, intentional focus on protecting the integrity of our industry. We’re committed to making a difference for people\, patients and our planet. At PAX\, we proudly stand for Social Reform\, Sustainability\, and Safe Access in cannabis.
URL:https://6-bricks-staging.rankreallyhigh.dev/event/pax-pop-up/
LOCATION:6 Brick’s Dispensary\, 1860 Main St\, Springfield\, MA\, 01103\, United States
ATTACH;FMTTYPE=image/jpeg:https://6-bricks-staging.rankreallyhigh.dev/wp-content/uploads/2023/04/PAX.Primary.Wordmark.Registered.RGB_.Black_15-scaled.jpg
END:VEVENT
END:VCALENDAR