BEGIN:VCALENDAR
VERSION:2.0
PRODID:-//6 Brick&#039;s - ECPv6.15.18//NONSGML v1.0//EN
CALSCALE:GREGORIAN
METHOD:PUBLISH
X-WR-CALNAME:6 Brick&#039;s
X-ORIGINAL-URL:https://6-bricks-staging.rankreallyhigh.dev
X-WR-CALDESC:Events for 6 Brick&#039;s
REFRESH-INTERVAL;VALUE=DURATION:PT1H
X-Robots-Tag:noindex
X-PUBLISHED-TTL:PT1H
BEGIN:VTIMEZONE
TZID:America/New_York
BEGIN:DAYLIGHT
TZOFFSETFROM:-0500
TZOFFSETTO:-0400
TZNAME:EDT
DTSTART:20220313T070000
END:DAYLIGHT
BEGIN:STANDARD
TZOFFSETFROM:-0400
TZOFFSETTO:-0500
TZNAME:EST
DTSTART:20221106T060000
END:STANDARD
BEGIN:DAYLIGHT
TZOFFSETFROM:-0500
TZOFFSETTO:-0400
TZNAME:EDT
DTSTART:20230312T070000
END:DAYLIGHT
BEGIN:STANDARD
TZOFFSETFROM:-0400
TZOFFSETTO:-0500
TZNAME:EST
DTSTART:20231105T060000
END:STANDARD
BEGIN:DAYLIGHT
TZOFFSETFROM:-0500
TZOFFSETTO:-0400
TZNAME:EDT
DTSTART:20240310T070000
END:DAYLIGHT
BEGIN:STANDARD
TZOFFSETFROM:-0400
TZOFFSETTO:-0500
TZNAME:EST
DTSTART:20241103T060000
END:STANDARD
END:VTIMEZONE
BEGIN:VEVENT
DTSTART;TZID=America/New_York:20230512T120000
DTEND;TZID=America/New_York:20230512T140000
DTSTAMP:20260422T183718
CREATED:20221216T180739Z
LAST-MODIFIED:20230510T160207Z
UID:10000007-1683892800-1683900000@6-bricks-staging.rankreallyhigh.dev
SUMMARY:Treeworks Pop-Up
DESCRIPTION:Come join us for a Treeworks Pop-up on May 12th from 12pm-2pm at 6Brick’s Dispensary 1860 Main St\, Springfield\, MA. \n  \nOur life’s mission at Treeworks is to produce full spectrum\, full cannabinoid\, effects-based premium cannabis products that exemplify the level of care and respect we have for the plant. All Treeworks products contain multiple cannabinoids that work together for enhanced effect\, known as the Entourage Effect. The results of which have won us many awards over the years\, as recognized by High Times Magazine.
URL:https://6-bricks-staging.rankreallyhigh.dev/event/treeworks-pop-up/
LOCATION:6 Brick’s Dispensary\, 1860 Main St\, Springfield\, MA\, 01103\, United States
ATTACH;FMTTYPE=image/png:https://6-bricks-staging.rankreallyhigh.dev/wp-content/uploads/2022/12/Treeworks.png
END:VEVENT
BEGIN:VEVENT
DTSTART;TZID=America/New_York:20230512T150000
DTEND;TZID=America/New_York:20230512T180000
DTSTAMP:20260422T183718
CREATED:20230510T172841Z
LAST-MODIFIED:20230520T231758Z
UID:10000042-1683903600-1683914400@6-bricks-staging.rankreallyhigh.dev
SUMMARY:Ahh Chocolate Pop-up
DESCRIPTION:Come join us for Ahh Chocolate pop-up on May 27th from 11am-2pm at 6Brick’s Dispensary 1860 Main St\, Springfield\, MA. \n  \n  \n\n\nAbout Ahh Chocolate: We started with the spirit of creativity and soulful intentions. Making sure we deliver the highest quality products of responsibly sourced goodness. Hand-crafting cannabis confections to guide our community into a deeper experience of flavor\, connection to ingredients\, plant medicine and self-care. Award winning chocolate from small batch makers is at the heart of what we do. Our herbalist inspired recipes bring an added dimension of health conscious\, healing ingredients into a full cannabinoid\, full spectrum experience\, every time. \n\n\n 
URL:https://6-bricks-staging.rankreallyhigh.dev/event/ahh-chocolate-pop-up/
LOCATION:6 Brick’s Dispensary\, 1860 Main St\, Springfield\, MA\, 01103\, United States
ATTACH;FMTTYPE=image/png:https://6-bricks-staging.rankreallyhigh.dev/wp-content/uploads/2023/05/download.png
END:VEVENT
END:VCALENDAR