BEGIN:VCALENDAR
VERSION:2.0
PRODID:-//6 Brick&#039;s - ECPv6.15.18//NONSGML v1.0//EN
CALSCALE:GREGORIAN
METHOD:PUBLISH
X-WR-CALNAME:6 Brick&#039;s
X-ORIGINAL-URL:https://6-bricks-staging.rankreallyhigh.dev
X-WR-CALDESC:Events for 6 Brick&#039;s
REFRESH-INTERVAL;VALUE=DURATION:PT1H
X-Robots-Tag:noindex
X-PUBLISHED-TTL:PT1H
BEGIN:VTIMEZONE
TZID:America/New_York
BEGIN:DAYLIGHT
TZOFFSETFROM:-0500
TZOFFSETTO:-0400
TZNAME:EDT
DTSTART:20220313T070000
END:DAYLIGHT
BEGIN:STANDARD
TZOFFSETFROM:-0400
TZOFFSETTO:-0500
TZNAME:EST
DTSTART:20221106T060000
END:STANDARD
BEGIN:DAYLIGHT
TZOFFSETFROM:-0500
TZOFFSETTO:-0400
TZNAME:EDT
DTSTART:20230312T070000
END:DAYLIGHT
BEGIN:STANDARD
TZOFFSETFROM:-0400
TZOFFSETTO:-0500
TZNAME:EST
DTSTART:20231105T060000
END:STANDARD
BEGIN:DAYLIGHT
TZOFFSETFROM:-0500
TZOFFSETTO:-0400
TZNAME:EDT
DTSTART:20240310T070000
END:DAYLIGHT
BEGIN:STANDARD
TZOFFSETFROM:-0400
TZOFFSETTO:-0500
TZNAME:EST
DTSTART:20241103T060000
END:STANDARD
END:VTIMEZONE
BEGIN:VEVENT
DTSTART;TZID=America/New_York:20230519T150000
DTEND;TZID=America/New_York:20230519T180000
DTSTAMP:20260422T183723
CREATED:20230501T161359Z
LAST-MODIFIED:20230501T161359Z
UID:10000040-1684508400-1684519200@6-bricks-staging.rankreallyhigh.dev
SUMMARY:Holistic Industries Pop-up
DESCRIPTION:Come join us for a Holistic Industries pop-up on May 19th from 3-6pm at 6Brick’s Dispensary 1860 Main St\, Springfield\, MA. \n  \nHolistic Industries is among the largest private vertically-integrated multi-state operators in the cannabis industry. With an industry-recognized reputation for deeply caring about the people who work and shop with us and for consistently delivering significant growth since its inception\, Holistic is considered the Best Place to Work\, Shop and Invest in Cannabis. Led by Founder and CEO Josh Genderson\, Holistic will continue to win licenses\, grow its substantial footprint and broad capabilities\, and be responsible stewards of capital.
URL:https://6-bricks-staging.rankreallyhigh.dev/event/holistic-industries-pop-up/
LOCATION:6 Brick’s Dispensary\, 1860 Main St\, Springfield\, MA\, 01103\, United States
ATTACH;FMTTYPE=image/png:https://6-bricks-staging.rankreallyhigh.dev/wp-content/uploads/2023/05/holistic-logo.png
END:VEVENT
END:VCALENDAR