BEGIN:VCALENDAR
VERSION:2.0
PRODID:-//6 Brick&#039;s - ECPv6.15.18//NONSGML v1.0//EN
CALSCALE:GREGORIAN
METHOD:PUBLISH
X-ORIGINAL-URL:https://6-bricks-staging.rankreallyhigh.dev
X-WR-CALDESC:Events for 6 Brick&#039;s
REFRESH-INTERVAL;VALUE=DURATION:PT1H
X-Robots-Tag:noindex
X-PUBLISHED-TTL:PT1H
BEGIN:VTIMEZONE
TZID:America/New_York
BEGIN:DAYLIGHT
TZOFFSETFROM:-0500
TZOFFSETTO:-0400
TZNAME:EDT
DTSTART:20220313T070000
END:DAYLIGHT
BEGIN:STANDARD
TZOFFSETFROM:-0400
TZOFFSETTO:-0500
TZNAME:EST
DTSTART:20221106T060000
END:STANDARD
BEGIN:DAYLIGHT
TZOFFSETFROM:-0500
TZOFFSETTO:-0400
TZNAME:EDT
DTSTART:20230312T070000
END:DAYLIGHT
BEGIN:STANDARD
TZOFFSETFROM:-0400
TZOFFSETTO:-0500
TZNAME:EST
DTSTART:20231105T060000
END:STANDARD
BEGIN:DAYLIGHT
TZOFFSETFROM:-0500
TZOFFSETTO:-0400
TZNAME:EDT
DTSTART:20240310T070000
END:DAYLIGHT
BEGIN:STANDARD
TZOFFSETFROM:-0400
TZOFFSETTO:-0500
TZNAME:EST
DTSTART:20241103T060000
END:STANDARD
END:VTIMEZONE
BEGIN:VEVENT
DTSTART;TZID=America/New_York:20230616T090000
DTEND;TZID=America/New_York:20230616T200000
DTSTAMP:20260422T073121
CREATED:20230320T125451Z
LAST-MODIFIED:20230613T143428Z
UID:10000031-1686906000-1686945600@6-bricks-staging.rankreallyhigh.dev
SUMMARY:Deli-Style returns THIS FRIDAY 6/16 from 9am - 8pm!
DESCRIPTION:DELI-STYLE IS BACK from 9am – 8pm on Friday\, June 16th. Select strains will be available for you to choose from. Your budtender will weigh out the amount of buds you would like right in front of you! You don’t want to miss this.
URL:https://6-bricks-staging.rankreallyhigh.dev/event/deli-style-returns-this-friday/
LOCATION:6 Brick’s Dispensary\, 1860 Main St\, Springfield\, MA\, 01103\, United States
ATTACH;FMTTYPE=image/jpeg:https://6-bricks-staging.rankreallyhigh.dev/wp-content/uploads/2023/03/budding-jE-2EFjYaZg-unsplash-scaled.jpg
END:VEVENT
BEGIN:VEVENT
DTSTART;TZID=America/New_York:20230616T120000
DTEND;TZID=America/New_York:20230616T140000
DTSTAMP:20260422T073121
CREATED:20230612T211539Z
LAST-MODIFIED:20230612T211539Z
UID:10000054-1686916800-1686924000@6-bricks-staging.rankreallyhigh.dev
SUMMARY:Aruna Pop-Up
DESCRIPTION:Come join us for an Aruna pop-up on June 16th from 12-2pm at 6Brick’s Dispensary 1860 Main St\, Springfield\, MA. \n  \nAbout Aruna:What is ARUNA? What does it mean?In Sanskrit\, Aruna (अरुण ) is the charioteer of Surya\, the Sun God. Aruna himself is the personification of the reddish glow of the rising sun that greets us each morning and welcomes a new day! \n  \nWhy “Aruna”?As a cultivator looking to set the new standard of quality\, sustainable\, sun grown cannabis. Nature can provide us with the very best and we are dedicated to the stewardship of our plants. We feel that the symbolism of Aruna perfectly exemplifies our company’s core belief in pulling the use of natural sunlight back  into growing cannabis while also emphasizing our roots as a Desi-owned minority business enterprise.
URL:https://6-bricks-staging.rankreallyhigh.dev/event/aruna-pop-up/
LOCATION:6 Brick’s Dispensary\, 1860 Main St\, Springfield\, MA\, 01103\, United States
ATTACH;FMTTYPE=image/png:https://6-bricks-staging.rankreallyhigh.dev/wp-content/uploads/2023/06/Screenshot-91.png
END:VEVENT
BEGIN:VEVENT
DTSTART;TZID=America/New_York:20230616T150000
DTEND;TZID=America/New_York:20230616T190000
DTSTAMP:20260422T073121
CREATED:20230319T182916Z
LAST-MODIFIED:20230524T202827Z
UID:10000028-1686927600-1686942000@6-bricks-staging.rankreallyhigh.dev
SUMMARY:Chill Medicated Pop-up
DESCRIPTION:Come join us for a Chill Medicated pop-up on June 16th from 3-7pm at 6Brick’s Dispensary 1860 Main St\, Springfield\, MA. \n  \nAbout Chill Medicated: Chill Mediated is made with care and created with purpose. We consider ourselves blessed to have the opportunity to be a part of this industry for the sole purpose of helping others. Being able to do something you are passionate about is something that not many individuals get the chance to do; making it that much easier for us to prioritize quality and consistency. #ChillWithUs
URL:https://6-bricks-staging.rankreallyhigh.dev/event/chill-medicated-pop-up/
LOCATION:6 Brick’s Dispensary\, 1860 Main St\, Springfield\, MA\, 01103\, United States
ATTACH;FMTTYPE=image/png:https://6-bricks-staging.rankreallyhigh.dev/wp-content/uploads/2023/03/Chill-Medicated-logo.png
END:VEVENT
END:VCALENDAR