BEGIN:VCALENDAR
VERSION:2.0
PRODID:-//6 Brick&#039;s - ECPv6.15.18//NONSGML v1.0//EN
CALSCALE:GREGORIAN
METHOD:PUBLISH
X-ORIGINAL-URL:https://6-bricks-staging.rankreallyhigh.dev
X-WR-CALDESC:Events for 6 Brick&#039;s
REFRESH-INTERVAL;VALUE=DURATION:PT1H
X-Robots-Tag:noindex
X-PUBLISHED-TTL:PT1H
BEGIN:VTIMEZONE
TZID:America/New_York
BEGIN:DAYLIGHT
TZOFFSETFROM:-0500
TZOFFSETTO:-0400
TZNAME:EDT
DTSTART:20220313T070000
END:DAYLIGHT
BEGIN:STANDARD
TZOFFSETFROM:-0400
TZOFFSETTO:-0500
TZNAME:EST
DTSTART:20221106T060000
END:STANDARD
BEGIN:DAYLIGHT
TZOFFSETFROM:-0500
TZOFFSETTO:-0400
TZNAME:EDT
DTSTART:20230312T070000
END:DAYLIGHT
BEGIN:STANDARD
TZOFFSETFROM:-0400
TZOFFSETTO:-0500
TZNAME:EST
DTSTART:20231105T060000
END:STANDARD
BEGIN:DAYLIGHT
TZOFFSETFROM:-0500
TZOFFSETTO:-0400
TZNAME:EDT
DTSTART:20240310T070000
END:DAYLIGHT
BEGIN:STANDARD
TZOFFSETFROM:-0400
TZOFFSETTO:-0500
TZNAME:EST
DTSTART:20241103T060000
END:STANDARD
END:VTIMEZONE
BEGIN:VEVENT
DTSTART;TZID=America/New_York:20230701T000000
DTEND;TZID=America/New_York:20230730T233000
DTSTAMP:20260422T055202
CREATED:20230702T133744Z
LAST-MODIFIED:20230702T133949Z
UID:10000064-1688169600-1690759800@6-bricks-staging.rankreallyhigh.dev
SUMMARY:Vote for 6 Brick's in Reader Raves!
DESCRIPTION:Please vote “6 Brick’s LLC” in the Best CBD Shop/Dispensary category. \n  \n*You do not need to complete the entire ballot to vote.* \n  \nLink to Ballot: Reader Raves 2024
URL:https://6-bricks-staging.rankreallyhigh.dev/event/reader-raves-voting-ends/
LOCATION:MA
ATTACH;FMTTYPE=application/pdf:https://6-bricks-staging.rankreallyhigh.dev/wp-content/uploads/2023/07/6-Bricks-voting-Flyer78756.pdf
END:VEVENT
BEGIN:VEVENT
DTSTART;TZID=America/New_York:20230707T090000
DTEND;TZID=America/New_York:20230707T200000
DTSTAMP:20260422T055202
CREATED:20230702T134416Z
LAST-MODIFIED:20230704T183507Z
UID:10000065-1688720400-1688760000@6-bricks-staging.rankreallyhigh.dev
SUMMARY:Deli-Style 7/7 from 9am - 8pm!
DESCRIPTION:DELI-STYLE IS BACK from 9am – 8pm on Friday\, July 7th. Select strains will be available for you to choose from. Your budtender will weigh the amount of buds you would like right before you! Deli-style ends at 8pm or while supplies last. This offer is only available in-store and on select Fridays\, don’t miss out!
URL:https://6-bricks-staging.rankreallyhigh.dev/event/deli-style-this-friday-7-7-from-9am-8pm/
LOCATION:6 Brick’s Dispensary\, 1860 Main St\, Springfield\, MA\, 01103\, United States
ATTACH;FMTTYPE=image/jpeg:https://6-bricks-staging.rankreallyhigh.dev/wp-content/uploads/2023/03/budding-jE-2EFjYaZg-unsplash-scaled.jpg
END:VEVENT
BEGIN:VEVENT
DTSTART;TZID=America/New_York:20230707T160000
DTEND;TZID=America/New_York:20230707T190000
DTSTAMP:20260422T055202
CREATED:20230702T130550Z
LAST-MODIFIED:20230702T130550Z
UID:10000057-1688745600-1688756400@6-bricks-staging.rankreallyhigh.dev
SUMMARY:Paper Crane Pop-up
DESCRIPTION:Come join us for a Paper Crane pop-up on July 7th from 4-7pm at 6Brick’s Dispensary 1860 Main St\, Springfield\, MA. \n  \nAbout Paper Crane: Paper Crane Cannabis was founded by husband and wife team\, Boey Bertold and Lisa Mauriello\, in August of 2019. Boey and Lisa are both participants of the state’s first Social Equity Program cohorts\, a program designed to offer training and benefits to those disproportionately impacted by the War on Drugs. As a state-designated Social Equity business\, they have felt the direct positive impacts of a program designed to give back. They carry this theme of service to their community throughout all they do. Paper Crane Cannabis provides exceptional\, high-quality marijuana and marijuana products\, utilizing organic and regnerative sungrown cultivation methods and harnessing nature’s incredible powers of the sun and earth.
URL:https://6-bricks-staging.rankreallyhigh.dev/event/paper-crane-pop-up/
LOCATION:6 Brick’s Dispensary\, 1860 Main St\, Springfield\, MA\, 01103\, United States
ATTACH;FMTTYPE=image/png:https://6-bricks-staging.rankreallyhigh.dev/wp-content/uploads/2023/07/PCC_CraneLogo.png
END:VEVENT
END:VCALENDAR