BEGIN:VCALENDAR
VERSION:2.0
PRODID:-//6 Brick&#039;s - ECPv6.15.18//NONSGML v1.0//EN
CALSCALE:GREGORIAN
METHOD:PUBLISH
X-WR-CALNAME:6 Brick&#039;s
X-ORIGINAL-URL:https://6-bricks-staging.rankreallyhigh.dev
X-WR-CALDESC:Events for 6 Brick&#039;s
REFRESH-INTERVAL;VALUE=DURATION:PT1H
X-Robots-Tag:noindex
X-PUBLISHED-TTL:PT1H
BEGIN:VTIMEZONE
TZID:America/New_York
BEGIN:DAYLIGHT
TZOFFSETFROM:-0500
TZOFFSETTO:-0400
TZNAME:EDT
DTSTART:20220313T070000
END:DAYLIGHT
BEGIN:STANDARD
TZOFFSETFROM:-0400
TZOFFSETTO:-0500
TZNAME:EST
DTSTART:20221106T060000
END:STANDARD
BEGIN:DAYLIGHT
TZOFFSETFROM:-0500
TZOFFSETTO:-0400
TZNAME:EDT
DTSTART:20230312T070000
END:DAYLIGHT
BEGIN:STANDARD
TZOFFSETFROM:-0400
TZOFFSETTO:-0500
TZNAME:EST
DTSTART:20231105T060000
END:STANDARD
BEGIN:DAYLIGHT
TZOFFSETFROM:-0500
TZOFFSETTO:-0400
TZNAME:EDT
DTSTART:20240310T070000
END:DAYLIGHT
BEGIN:STANDARD
TZOFFSETFROM:-0400
TZOFFSETTO:-0500
TZNAME:EST
DTSTART:20241103T060000
END:STANDARD
END:VTIMEZONE
BEGIN:VEVENT
DTSTART;TZID=America/New_York:20230701T000000
DTEND;TZID=America/New_York:20230730T233000
DTSTAMP:20260422T160933
CREATED:20230702T133744Z
LAST-MODIFIED:20230702T133949Z
UID:10000064-1688169600-1690759800@6-bricks-staging.rankreallyhigh.dev
SUMMARY:Vote for 6 Brick's in Reader Raves!
DESCRIPTION:Please vote “6 Brick’s LLC” in the Best CBD Shop/Dispensary category. \n  \n*You do not need to complete the entire ballot to vote.* \n  \nLink to Ballot: Reader Raves 2024
URL:https://6-bricks-staging.rankreallyhigh.dev/event/reader-raves-voting-ends/
LOCATION:MA
ATTACH;FMTTYPE=application/pdf:https://6-bricks-staging.rankreallyhigh.dev/wp-content/uploads/2023/07/6-Bricks-voting-Flyer78756.pdf
END:VEVENT
BEGIN:VEVENT
DTSTART;TZID=America/New_York:20230720T120000
DTEND;TZID=America/New_York:20230720T133000
DTSTAMP:20260422T160933
CREATED:20230704T171728Z
LAST-MODIFIED:20230704T172013Z
UID:10000069-1689854400-1689859800@6-bricks-staging.rankreallyhigh.dev
SUMMARY:1906 pop-up
DESCRIPTION:Come join us for a pop-up with our friends from 1906 on July 20th from 12-1:30 pm at 6Brick’s Dispensary 1860 Main St\, Springfield\, MA. \n  \nAbout 1906: We started 1906 because we believe cannabis is the greatest medicine on earth. Our goal is to make cannabis a trusted\, normal part of daily wellness with products that are easy to understand and easy to fit into your life and offer the most healthful format of cannabis available. 1906 is named for the last time cannabis was widely accepted as a beneficial medicine. The Wiley Act was enacted the following year\, beginning nearly a century of misguided cannabis prohibition with devastating consequences. We say it’s high time to make cannabis accessible and understandable for all—for the greater good (and the greater fun).
URL:https://6-bricks-staging.rankreallyhigh.dev/event/1906-pop-up/
LOCATION:6 Brick’s Dispensary\, 1860 Main St\, Springfield\, MA\, 01103\, United States
ATTACH;FMTTYPE=image/jpeg:https://6-bricks-staging.rankreallyhigh.dev/wp-content/uploads/2023/07/1906-logo.jpg
END:VEVENT
BEGIN:VEVENT
DTSTART;TZID=America/New_York:20230720T160000
DTEND;TZID=America/New_York:20230720T180000
DTSTAMP:20260422T160933
CREATED:20230713T165227Z
LAST-MODIFIED:20230713T165227Z
UID:10000070-1689868800-1689876000@6-bricks-staging.rankreallyhigh.dev
SUMMARY:Hidden Hemlock Pop-up
DESCRIPTION:Come join us for a Hidden Hemlock Pop-up on July 20th from 4-6pm at 6Brick’s Dispensary 1860 Main St\, Springfield\, MA. \n  \nABOUT HIDDEN HEMLOCK: \nIn addition to our love of growing\, we’re also passionate about keeping a healthy mind and body\, which is why we produce cannabis grown in 100% organic soil and use organic inputs.  We’re proud to be producing cannabis on a micro (craft) level – an honor that can only be achieved by being from Massachusetts\, keeping our canopy under 5\,000 sq. ft. (that’s tiny)\, and not being involved in other multi-state operations.
URL:https://6-bricks-staging.rankreallyhigh.dev/event/hidden-hemlock-pop-up-2/
LOCATION:6 Brick’s Dispensary\, 1860 Main St\, Springfield\, MA\, 01103\, United States
ATTACH;FMTTYPE=image/jpeg:https://6-bricks-staging.rankreallyhigh.dev/wp-content/uploads/2023/03/hidden-hemlock-logo.jpeg
END:VEVENT
END:VCALENDAR