BEGIN:VCALENDAR
VERSION:2.0
PRODID:-//6 Brick&#039;s - ECPv6.15.18//NONSGML v1.0//EN
CALSCALE:GREGORIAN
METHOD:PUBLISH
X-WR-CALNAME:6 Brick&#039;s
X-ORIGINAL-URL:https://6-bricks-staging.rankreallyhigh.dev
X-WR-CALDESC:Events for 6 Brick&#039;s
REFRESH-INTERVAL;VALUE=DURATION:PT1H
X-Robots-Tag:noindex
X-PUBLISHED-TTL:PT1H
BEGIN:VTIMEZONE
TZID:America/New_York
BEGIN:DAYLIGHT
TZOFFSETFROM:-0500
TZOFFSETTO:-0400
TZNAME:EDT
DTSTART:20220313T070000
END:DAYLIGHT
BEGIN:STANDARD
TZOFFSETFROM:-0400
TZOFFSETTO:-0500
TZNAME:EST
DTSTART:20221106T060000
END:STANDARD
BEGIN:DAYLIGHT
TZOFFSETFROM:-0500
TZOFFSETTO:-0400
TZNAME:EDT
DTSTART:20230312T070000
END:DAYLIGHT
BEGIN:STANDARD
TZOFFSETFROM:-0400
TZOFFSETTO:-0500
TZNAME:EST
DTSTART:20231105T060000
END:STANDARD
BEGIN:DAYLIGHT
TZOFFSETFROM:-0500
TZOFFSETTO:-0400
TZNAME:EDT
DTSTART:20240310T070000
END:DAYLIGHT
BEGIN:STANDARD
TZOFFSETFROM:-0400
TZOFFSETTO:-0500
TZNAME:EST
DTSTART:20241103T060000
END:STANDARD
END:VTIMEZONE
BEGIN:VEVENT
DTSTART;TZID=America/New_York:20230801T080000
DTEND;TZID=America/New_York:20230825T170000
DTSTAMP:20260422T160931
CREATED:20230801T151518Z
LAST-MODIFIED:20230801T151518Z
UID:10000082-1690876800-1692982800@6-bricks-staging.rankreallyhigh.dev
SUMMARY:Green Meadows Clone Raffle
DESCRIPTION:
URL:https://6-bricks-staging.rankreallyhigh.dev/event/green-meadows-clone-raffle/
LOCATION:6 Brick’s Dispensary\, 1860 Main St\, Springfield\, MA\, 01103\, United States
ATTACH;FMTTYPE=image/png:https://6-bricks-staging.rankreallyhigh.dev/wp-content/uploads/2023/08/Clone-Raffle-Dutchie-Image-Banner-DESKTOP-2.png
END:VEVENT
BEGIN:VEVENT
DTSTART;TZID=America/New_York:20230818T090000
DTEND;TZID=America/New_York:20230818T200000
DTSTAMP:20260422T160931
CREATED:20230803T203026Z
LAST-MODIFIED:20230803T203027Z
UID:10000088-1692349200-1692388800@6-bricks-staging.rankreallyhigh.dev
SUMMARY:DELI-STYLE 8/18 FROM 9AM-8PM
DESCRIPTION:DELI-STYLE IS BACK from 9am – 8pm on Friday\, August 18th. Select strains will be available for you to choose from. Your budtender will weigh the amount of buds you would like right before you! Deli-style ends at 8pm or while supplies last. This offer is only available in-store and on select Fridays\, don’t miss out!
URL:https://6-bricks-staging.rankreallyhigh.dev/event/deli-style-8-18-from-9am-8pm/
LOCATION:6 Brick’s Dispensary\, 1860 Main St\, Springfield\, MA\, 01103\, United States
ATTACH;FMTTYPE=image/jpeg:https://6-bricks-staging.rankreallyhigh.dev/wp-content/uploads/2023/03/budding-jE-2EFjYaZg-unsplash-scaled.jpg
END:VEVENT
BEGIN:VEVENT
DTSTART;TZID=America/New_York:20230818T150000
DTEND;TZID=America/New_York:20230818T180000
DTSTAMP:20260422T160931
CREATED:20230801T145736Z
LAST-MODIFIED:20230816T221544Z
UID:10000078-1692370800-1692381600@6-bricks-staging.rankreallyhigh.dev
SUMMARY:HighTide Pop-up
DESCRIPTION:Come join us for a pop-up with HighTide on August 18th from 3-6pm at 6Brick’s Dispensary 1860 Main St\, Springfield\, MA. \nABOUT HIGHTIDE: HighTide is a premium cannabis-infused margarita made for tuning in\, not checking out. In a world that’s getting faster each day\, HighTide helps slow it down\, with each sip of our take on the classic cocktail grounding you naturally to life’s greatest moments. It’s a flavorful\, refreshing beverage made for enhancing socialization and establishing connections with real\, authentic conversation. That low-calorie beverage you can feel in your hands at the kickback that you can take at your own pace. In the end\, we aim to deliver a crisp\, hangover-free experience that forges memories made to be cherished — not forgotten.
URL:https://6-bricks-staging.rankreallyhigh.dev/event/hightide-pop-up-2/
LOCATION:6 Brick’s Dispensary\, 1860 Main St\, Springfield\, MA\, 01103\, United States
ATTACH;FMTTYPE=image/png:https://6-bricks-staging.rankreallyhigh.dev/wp-content/uploads/2023/06/HighTide_Logo.png
END:VEVENT
END:VCALENDAR