BEGIN:VCALENDAR
VERSION:2.0
PRODID:-//6 Brick&#039;s - ECPv6.15.18//NONSGML v1.0//EN
CALSCALE:GREGORIAN
METHOD:PUBLISH
X-ORIGINAL-URL:https://6-bricks-staging.rankreallyhigh.dev
X-WR-CALDESC:Events for 6 Brick&#039;s
REFRESH-INTERVAL;VALUE=DURATION:PT1H
X-Robots-Tag:noindex
X-PUBLISHED-TTL:PT1H
BEGIN:VTIMEZONE
TZID:America/New_York
BEGIN:DAYLIGHT
TZOFFSETFROM:-0500
TZOFFSETTO:-0400
TZNAME:EDT
DTSTART:20220313T070000
END:DAYLIGHT
BEGIN:STANDARD
TZOFFSETFROM:-0400
TZOFFSETTO:-0500
TZNAME:EST
DTSTART:20221106T060000
END:STANDARD
BEGIN:DAYLIGHT
TZOFFSETFROM:-0500
TZOFFSETTO:-0400
TZNAME:EDT
DTSTART:20230312T070000
END:DAYLIGHT
BEGIN:STANDARD
TZOFFSETFROM:-0400
TZOFFSETTO:-0500
TZNAME:EST
DTSTART:20231105T060000
END:STANDARD
BEGIN:DAYLIGHT
TZOFFSETFROM:-0500
TZOFFSETTO:-0400
TZNAME:EDT
DTSTART:20240310T070000
END:DAYLIGHT
BEGIN:STANDARD
TZOFFSETFROM:-0400
TZOFFSETTO:-0500
TZNAME:EST
DTSTART:20241103T060000
END:STANDARD
END:VTIMEZONE
BEGIN:VEVENT
DTSTART;TZID=America/New_York:20231006T180000
DTEND;TZID=America/New_York:20231006T183000
DTSTAMP:20260419T231811
CREATED:20231001T145540Z
LAST-MODIFIED:20231003T153459Z
UID:10000110-1696615200-1696617000@6-bricks-staging.rankreallyhigh.dev
SUMMARY:Hidden Hemlock Bat Raffle
DESCRIPTION:Welcome to our Hidden Hemlock Bat Raffle\, running every Friday in October. The weekly raffle will end at 6pm each Friday\, where one lucky winner will be chosen to receive a Hidden Hemlock 7g Torpedo Bat pre-roll. To enter\, purchase any Hidden Hemlock product available on the 6 Brick’s menu. The winner has till Sunday to come in-store and pick up their prize!
URL:https://6-bricks-staging.rankreallyhigh.dev/event/hidden-hemlock-bat-raffle/
LOCATION:6 Brick’s Dispensary\, 1860 Main St\, Springfield\, MA\, 01103\, United States
ATTACH;FMTTYPE=image/jpeg:https://6-bricks-staging.rankreallyhigh.dev/wp-content/uploads/2023/10/Raffle-Horizontal-TV-Screen-2-100.jpg
END:VEVENT
END:VCALENDAR