BEGIN:VCALENDAR
VERSION:2.0
PRODID:-//6 Brick&#039;s - ECPv6.15.18//NONSGML v1.0//EN
CALSCALE:GREGORIAN
METHOD:PUBLISH
X-ORIGINAL-URL:https://6-bricks-staging.rankreallyhigh.dev
X-WR-CALDESC:Events for 6 Brick&#039;s
REFRESH-INTERVAL;VALUE=DURATION:PT1H
X-Robots-Tag:noindex
X-PUBLISHED-TTL:PT1H
BEGIN:VTIMEZONE
TZID:America/New_York
BEGIN:DAYLIGHT
TZOFFSETFROM:-0500
TZOFFSETTO:-0400
TZNAME:EDT
DTSTART:20220313T070000
END:DAYLIGHT
BEGIN:STANDARD
TZOFFSETFROM:-0400
TZOFFSETTO:-0500
TZNAME:EST
DTSTART:20221106T060000
END:STANDARD
BEGIN:DAYLIGHT
TZOFFSETFROM:-0500
TZOFFSETTO:-0400
TZNAME:EDT
DTSTART:20230312T070000
END:DAYLIGHT
BEGIN:STANDARD
TZOFFSETFROM:-0400
TZOFFSETTO:-0500
TZNAME:EST
DTSTART:20231105T060000
END:STANDARD
BEGIN:DAYLIGHT
TZOFFSETFROM:-0500
TZOFFSETTO:-0400
TZNAME:EDT
DTSTART:20240310T070000
END:DAYLIGHT
BEGIN:STANDARD
TZOFFSETFROM:-0400
TZOFFSETTO:-0500
TZNAME:EST
DTSTART:20241103T060000
END:STANDARD
END:VTIMEZONE
BEGIN:VEVENT
DTSTART;TZID=America/New_York:20231019T150000
DTEND;TZID=America/New_York:20231019T170000
DTSTAMP:20260419T231802
CREATED:20231001T163407Z
LAST-MODIFIED:20231001T163407Z
UID:10000118-1697727600-1697734800@6-bricks-staging.rankreallyhigh.dev
SUMMARY:Nature's Heritage pop-up
DESCRIPTION:Come join us for a Garden Remedies pop-up on October 19th from 3-5pm at 6Brick’s Dispensary 1860 Main St\, Springfield\, MA. \n  \nABOUT NATURE’S HERITAGE: Curating an archive of genetics from around the world\, we cultivate unique strains of cannabis that capture the finest elements of the plant. We care for our plants like Mother Nature would\, never cutting corners. Explore the fine lineages of Nature’s Heritage. Look into Nature. Honor your Heritage. Trust in Trees.
URL:https://6-bricks-staging.rankreallyhigh.dev/event/natures-heritage-pop-up/
LOCATION:6 Brick’s Dispensary\, 1860 Main St\, Springfield\, MA\, 01103\, United States
ATTACH;FMTTYPE=image/png:https://6-bricks-staging.rankreallyhigh.dev/wp-content/uploads/2023/09/NATURES-HERITAGE-LOGO.png
END:VEVENT
END:VCALENDAR