BEGIN:VCALENDAR
VERSION:2.0
PRODID:-//6 Brick&#039;s - ECPv6.15.18//NONSGML v1.0//EN
CALSCALE:GREGORIAN
METHOD:PUBLISH
X-ORIGINAL-URL:https://6-bricks-staging.rankreallyhigh.dev
X-WR-CALDESC:Events for 6 Brick&#039;s
REFRESH-INTERVAL;VALUE=DURATION:PT1H
X-Robots-Tag:noindex
X-PUBLISHED-TTL:PT1H
BEGIN:VTIMEZONE
TZID:America/New_York
BEGIN:DAYLIGHT
TZOFFSETFROM:-0500
TZOFFSETTO:-0400
TZNAME:EDT
DTSTART:20220313T070000
END:DAYLIGHT
BEGIN:STANDARD
TZOFFSETFROM:-0400
TZOFFSETTO:-0500
TZNAME:EST
DTSTART:20221106T060000
END:STANDARD
BEGIN:DAYLIGHT
TZOFFSETFROM:-0500
TZOFFSETTO:-0400
TZNAME:EDT
DTSTART:20230312T070000
END:DAYLIGHT
BEGIN:STANDARD
TZOFFSETFROM:-0400
TZOFFSETTO:-0500
TZNAME:EST
DTSTART:20231105T060000
END:STANDARD
BEGIN:DAYLIGHT
TZOFFSETFROM:-0500
TZOFFSETTO:-0400
TZNAME:EDT
DTSTART:20240310T070000
END:DAYLIGHT
BEGIN:STANDARD
TZOFFSETFROM:-0400
TZOFFSETTO:-0500
TZNAME:EST
DTSTART:20241103T060000
END:STANDARD
END:VTIMEZONE
BEGIN:VEVENT
DTSTART;VALUE=DATE:20231101
DTEND;VALUE=DATE:20231201
DTSTAMP:20260419T214308
CREATED:20231101T145240Z
LAST-MODIFIED:20231101T145440Z
UID:10000144-1698796800-1701388799@6-bricks-staging.rankreallyhigh.dev
SUMMARY:THANK YOU TO ALL VETERANS!
DESCRIPTION:6 Brick’s and Green Meadows are teaming up for a special collaboration in November to celebrate Veteran’s Day! \n  \nTalk to a Budtender about donating to the Green Meadows Patton Alliance for Veterans.
URL:https://6-bricks-staging.rankreallyhigh.dev/event/thank-you-to-all-veterans/
LOCATION:6 Brick’s Dispensary\, 1860 Main St\, Springfield\, MA\, 01103\, United States
ATTACH;FMTTYPE=image/png:https://6-bricks-staging.rankreallyhigh.dev/wp-content/uploads/2023/11/Email-Graphic.png
END:VEVENT
BEGIN:VEVENT
DTSTART;TZID=America/New_York:20231108T120000
DTEND;TZID=America/New_York:20231108T140000
DTSTAMP:20260419T214308
CREATED:20231101T134122Z
LAST-MODIFIED:20231101T135453Z
UID:10000130-1699444800-1699452000@6-bricks-staging.rankreallyhigh.dev
SUMMARY:Rove Pop-up
DESCRIPTION:Come join us for a Rove Pop-up on November 8th from 12-2pm at 6Brick’s Dispensary 1860 Main St\, Springfield\, MA. \n  \nABOUT ROVE: At Rove\, we believe in honesty\, simplicity\, and transparency. Our goal is to provide customers with the highest quality products that taste great and are created with them in mind. Welcome to our brand\, where the best is always getting better.
URL:https://6-bricks-staging.rankreallyhigh.dev/event/rove-pop-up-6/
LOCATION:6 Brick’s Dispensary\, 1860 Main St\, Springfield\, MA\, 01103\, United States
ATTACH;FMTTYPE=image/jpeg:https://6-bricks-staging.rankreallyhigh.dev/wp-content/uploads/2023/05/ROVE.jpg
END:VEVENT
END:VCALENDAR