BEGIN:VCALENDAR
VERSION:2.0
PRODID:-//6 Brick&#039;s - ECPv6.15.18//NONSGML v1.0//EN
CALSCALE:GREGORIAN
METHOD:PUBLISH
X-ORIGINAL-URL:https://6-bricks-staging.rankreallyhigh.dev
X-WR-CALDESC:Events for 6 Brick&#039;s
REFRESH-INTERVAL;VALUE=DURATION:PT1H
X-Robots-Tag:noindex
X-PUBLISHED-TTL:PT1H
BEGIN:VTIMEZONE
TZID:America/New_York
BEGIN:DAYLIGHT
TZOFFSETFROM:-0500
TZOFFSETTO:-0400
TZNAME:EDT
DTSTART:20220313T070000
END:DAYLIGHT
BEGIN:STANDARD
TZOFFSETFROM:-0400
TZOFFSETTO:-0500
TZNAME:EST
DTSTART:20221106T060000
END:STANDARD
BEGIN:DAYLIGHT
TZOFFSETFROM:-0500
TZOFFSETTO:-0400
TZNAME:EDT
DTSTART:20230312T070000
END:DAYLIGHT
BEGIN:STANDARD
TZOFFSETFROM:-0400
TZOFFSETTO:-0500
TZNAME:EST
DTSTART:20231105T060000
END:STANDARD
BEGIN:DAYLIGHT
TZOFFSETFROM:-0500
TZOFFSETTO:-0400
TZNAME:EDT
DTSTART:20240310T070000
END:DAYLIGHT
BEGIN:STANDARD
TZOFFSETFROM:-0400
TZOFFSETTO:-0500
TZNAME:EST
DTSTART:20241103T060000
END:STANDARD
END:VTIMEZONE
BEGIN:VEVENT
DTSTART;TZID=America/New_York:20231201T090000
DTEND;TZID=America/New_York:20231201T200000
DTSTAMP:20260419T185019
CREATED:20231126T181535Z
LAST-MODIFIED:20231201T141627Z
UID:10000145-1701421200-1701460800@6-bricks-staging.rankreallyhigh.dev
SUMMARY:DELI-STYLE FRIDAY FROM 9AM-8PM
DESCRIPTION:DELI-STYLE IS BACK from 9am – 8pm on Friday\, December 1st\, at our Springfield weed dispensary. Select strains will be available for you to choose from. Your budtender will weigh the amount of buds you would like right before you! Deli-style ends at 8pm or while supplies last. This offer is only available in-store and on select Fridays\, don’t miss out!
URL:https://6-bricks-staging.rankreallyhigh.dev/event/deli-style-friday-from-9am-8pm-4/
LOCATION:6 Brick’s Dispensary\, 1860 Main St\, Springfield\, MA\, 01103\, United States
ATTACH;FMTTYPE=image/jpeg:https://6-bricks-staging.rankreallyhigh.dev/wp-content/uploads/2023/03/budding-jE-2EFjYaZg-unsplash-scaled.jpg
END:VEVENT
BEGIN:VEVENT
DTSTART;TZID=America/New_York:20231201T160000
DTEND;TZID=America/New_York:20231201T190000
DTSTAMP:20260419T185019
CREATED:20231126T185231Z
LAST-MODIFIED:20231201T142011Z
UID:10000152-1701446400-1701457200@6-bricks-staging.rankreallyhigh.dev
SUMMARY:High Ledges Cannabis Pop-Up
DESCRIPTION:Come join us for a High Ledges Cannabis pop-up on December 1st from 4-7pm at 6 Brick’s Weed Dispensary 1860 Main St\, Springfield\, MA. \n  \nABOUT HIGH LEDGES CANNABIS: The partners at High Ledges have over 30 cumulative years of experience in cultivating cannabis.  For years we have participated in networks of cannabis enthusiasts working to improve cultivation practices\, find the best possible cultivars\, and share our stories. \nThe journey through varying methods of cultivation led eventually to growing organically in living soil.  Taking lessons from regenerative farming techniques\, experimenting\, and paying close attention to detail allowed us to develop a compliant cultivation process in our custom built cannabis facility. Growing with this natural farming method yields an attractive array of cannabinoids and terpenes. \nOur partners test each cultivar before we include them in our collection to ensure they meet our high standards for quality. \nWe are excited to share our journey and to see cannabis freed from prohibition.
URL:https://6-bricks-staging.rankreallyhigh.dev/event/high-ledges-cannabis-pop-up/
LOCATION:6 Brick’s Dispensary\, 1860 Main St\, Springfield\, MA\, 01103\, United States
ATTACH;FMTTYPE=image/png:https://6-bricks-staging.rankreallyhigh.dev/wp-content/uploads/2023/11/High-Ledges-Cannabis-logo.png
END:VEVENT
END:VCALENDAR