BEGIN:VCALENDAR
VERSION:2.0
PRODID:-//6 Brick&#039;s - ECPv6.15.18//NONSGML v1.0//EN
CALSCALE:GREGORIAN
METHOD:PUBLISH
X-ORIGINAL-URL:https://6-bricks-staging.rankreallyhigh.dev
X-WR-CALDESC:Events for 6 Brick&#039;s
REFRESH-INTERVAL;VALUE=DURATION:PT1H
X-Robots-Tag:noindex
X-PUBLISHED-TTL:PT1H
BEGIN:VTIMEZONE
TZID:America/New_York
BEGIN:DAYLIGHT
TZOFFSETFROM:-0500
TZOFFSETTO:-0400
TZNAME:EDT
DTSTART:20220313T070000
END:DAYLIGHT
BEGIN:STANDARD
TZOFFSETFROM:-0400
TZOFFSETTO:-0500
TZNAME:EST
DTSTART:20221106T060000
END:STANDARD
BEGIN:DAYLIGHT
TZOFFSETFROM:-0500
TZOFFSETTO:-0400
TZNAME:EDT
DTSTART:20230312T070000
END:DAYLIGHT
BEGIN:STANDARD
TZOFFSETFROM:-0400
TZOFFSETTO:-0500
TZNAME:EST
DTSTART:20231105T060000
END:STANDARD
BEGIN:DAYLIGHT
TZOFFSETFROM:-0500
TZOFFSETTO:-0400
TZNAME:EDT
DTSTART:20240310T070000
END:DAYLIGHT
BEGIN:STANDARD
TZOFFSETFROM:-0400
TZOFFSETTO:-0500
TZNAME:EST
DTSTART:20241103T060000
END:STANDARD
END:VTIMEZONE
BEGIN:VEVENT
DTSTART;TZID=America/New_York:20231213T150000
DTEND;TZID=America/New_York:20231213T180000
DTSTAMP:20260419T185019
CREATED:20231205T191904Z
LAST-MODIFIED:20231206T221413Z
UID:10000157-1702479600-1702490400@6-bricks-staging.rankreallyhigh.dev
SUMMARY:Wemelco Pop-up
DESCRIPTION:Come join us for a Wemelco pop-up on December 13th from 3-6pm at 6 Brick’s Dispensary 1860 Main St\, Springfield\, MA. \nBe sure to subscribe to our weed events calendar and follow us for more cannabis events in Springfield! \nABOUT WELMELCO: Based in Massachusetts\, Wemelco Industries is a leading supplier for packaging\, hardware\, and products in the cannabis space.
URL:https://6-bricks-staging.rankreallyhigh.dev/event/wemelco-pop-up/
LOCATION:6 Brick’s Dispensary\, 1860 Main St\, Springfield\, MA\, 01103\, United States
ATTACH;FMTTYPE=image/png:https://6-bricks-staging.rankreallyhigh.dev/wp-content/uploads/2023/12/wemelco-500.png
END:VEVENT
END:VCALENDAR