BEGIN:VCALENDAR
VERSION:2.0
PRODID:-//6 Brick&#039;s - ECPv6.15.18//NONSGML v1.0//EN
CALSCALE:GREGORIAN
METHOD:PUBLISH
X-ORIGINAL-URL:https://6-bricks-staging.rankreallyhigh.dev
X-WR-CALDESC:Events for 6 Brick&#039;s
REFRESH-INTERVAL;VALUE=DURATION:PT1H
X-Robots-Tag:noindex
X-PUBLISHED-TTL:PT1H
BEGIN:VTIMEZONE
TZID:America/New_York
BEGIN:DAYLIGHT
TZOFFSETFROM:-0500
TZOFFSETTO:-0400
TZNAME:EDT
DTSTART:20220313T070000
END:DAYLIGHT
BEGIN:STANDARD
TZOFFSETFROM:-0400
TZOFFSETTO:-0500
TZNAME:EST
DTSTART:20221106T060000
END:STANDARD
BEGIN:DAYLIGHT
TZOFFSETFROM:-0500
TZOFFSETTO:-0400
TZNAME:EDT
DTSTART:20230312T070000
END:DAYLIGHT
BEGIN:STANDARD
TZOFFSETFROM:-0400
TZOFFSETTO:-0500
TZNAME:EST
DTSTART:20231105T060000
END:STANDARD
BEGIN:DAYLIGHT
TZOFFSETFROM:-0500
TZOFFSETTO:-0400
TZNAME:EDT
DTSTART:20240310T070000
END:DAYLIGHT
BEGIN:STANDARD
TZOFFSETFROM:-0400
TZOFFSETTO:-0500
TZNAME:EST
DTSTART:20241103T060000
END:STANDARD
END:VTIMEZONE
BEGIN:VEVENT
DTSTART;TZID=America/New_York:20231215T090000
DTEND;TZID=America/New_York:20231215T200000
DTSTAMP:20260419T184248
CREATED:20231126T182438Z
LAST-MODIFIED:20231206T222304Z
UID:10000147-1702630800-1702670400@6-bricks-staging.rankreallyhigh.dev
SUMMARY:DELI-STYLE FRIDAY FROM 9AM-8PM
DESCRIPTION:DELI-STYLE IS BACK from 9am – 8pm on Friday\, December 15th at our Springfield weed dispensary. \nSelect strains will be available for you to choose from. Your budtender will weigh the amount of buds you would like right before you! Deli-style ends at 8pm or while supplies last. This offer is only available in-store and on select Fridays\, don’t miss out! \nBe sure to subscribe to our weed events calendar and follow us for more cannabis events in Springfield!
URL:https://6-bricks-staging.rankreallyhigh.dev/event/deli-style-friday-from-9am-8pm-6/
LOCATION:6 Brick’s Dispensary\, 1860 Main St\, Springfield\, MA\, 01103\, United States
ATTACH;FMTTYPE=image/jpeg:https://6-bricks-staging.rankreallyhigh.dev/wp-content/uploads/2023/03/budding-jE-2EFjYaZg-unsplash-scaled.jpg
END:VEVENT
BEGIN:VEVENT
DTSTART;TZID=America/New_York:20231215T160000
DTEND;TZID=America/New_York:20231215T180000
DTSTAMP:20260419T184248
CREATED:20231126T184341Z
LAST-MODIFIED:20231206T222520Z
UID:10000151-1702656000-1702663200@6-bricks-staging.rankreallyhigh.dev
SUMMARY:Aruna Pop-up
DESCRIPTION:Come join us for an Aruna Pop-up on December 15th from 4-6pm at 6Brick’s Dispensary 1860 Main St\, Springfield\, MA. \nBe sure to subscribe to our weed events calendar and follow us for more cannabis events in Springfield! \nAbout ARUNA: What is ARUNA? What does it mean?In Sanskrit\, Aruna (अरुण ) is the charioteer of Surya\, the Sun God. Aruna himself is the personification of the reddish glow of the rising sun that greets us each morning and welcomes a new day! \nWhy “Aruna”?As a cultivator looking to set the new standard of quality\, sustainable\, sun grown cannabis. Nature can provide us with the very best and we are dedicated to the stewardship of our plants. We feel that the symbolism of Aruna perfectly exemplifies our company’s core belief in pulling the use of natural sunlight back  into growing cannabis while also emphasizing our roots as a Desi-owned minority business enterprise.
URL:https://6-bricks-staging.rankreallyhigh.dev/event/aruna-pop-up-2/
LOCATION:6 Brick’s Dispensary\, 1860 Main St\, Springfield\, MA\, 01103\, United States
ATTACH;FMTTYPE=image/png:https://6-bricks-staging.rankreallyhigh.dev/wp-content/uploads/2023/06/Screenshot-91.png
END:VEVENT
END:VCALENDAR