BEGIN:VCALENDAR
VERSION:2.0
PRODID:-//6 Brick&#039;s - ECPv6.15.18//NONSGML v1.0//EN
CALSCALE:GREGORIAN
METHOD:PUBLISH
X-WR-CALNAME:6 Brick&#039;s
X-ORIGINAL-URL:https://6-bricks-staging.rankreallyhigh.dev
X-WR-CALDESC:Events for 6 Brick&#039;s
REFRESH-INTERVAL;VALUE=DURATION:PT1H
X-Robots-Tag:noindex
X-PUBLISHED-TTL:PT1H
BEGIN:VTIMEZONE
TZID:America/New_York
BEGIN:DAYLIGHT
TZOFFSETFROM:-0500
TZOFFSETTO:-0400
TZNAME:EDT
DTSTART:20220313T070000
END:DAYLIGHT
BEGIN:STANDARD
TZOFFSETFROM:-0400
TZOFFSETTO:-0500
TZNAME:EST
DTSTART:20221106T060000
END:STANDARD
BEGIN:DAYLIGHT
TZOFFSETFROM:-0500
TZOFFSETTO:-0400
TZNAME:EDT
DTSTART:20230312T070000
END:DAYLIGHT
BEGIN:STANDARD
TZOFFSETFROM:-0400
TZOFFSETTO:-0500
TZNAME:EST
DTSTART:20231105T060000
END:STANDARD
BEGIN:DAYLIGHT
TZOFFSETFROM:-0500
TZOFFSETTO:-0400
TZNAME:EDT
DTSTART:20240310T070000
END:DAYLIGHT
BEGIN:STANDARD
TZOFFSETFROM:-0400
TZOFFSETTO:-0500
TZNAME:EST
DTSTART:20241103T060000
END:STANDARD
END:VTIMEZONE
BEGIN:VEVENT
DTSTART;TZID=America/New_York:20231218T090000
DTEND;TZID=America/New_York:20231223T210000
DTSTAMP:20260419T184113
CREATED:20231218T032102Z
LAST-MODIFIED:20231218T212936Z
UID:10000164-1702890000-1703365200@6-bricks-staging.rankreallyhigh.dev
SUMMARY:6 Days of Christmas at 6 Brick's!
DESCRIPTION:Every day leading up to Christmas (Monday 12/18 – Saturday 12/23) 6 Brick’s will select one lucky winner from the raffle entries. To participate\, simply make a purchase of $100 or more in-store. Each day\, the raffle will reset after the store closes\, giving everyone a fair shot at winning the prize. The prizes include glass pieces created by Amani Summerday. Sunday 12/24 is the last day to collect your prize if chosen as one of the lucky winners. \n  \nABOUT AMANI SUMMERDAY: It could be said that Amani’s art journey began when his young transient parents dropped him off in a wicker basket at an unknown reservation in northern Arizona. When asked\, Amani’s first memory was the smell of Volkswagen bus exhaust\, a cloud of clay dust and a fading Grateful Dead decal slowly disappearing into the hills. As the Volkswagen faded out of vision a shadowy figure emerged from an active sweat lodge smelling of fine cedar and burning coals. Suddenly a feeling of weightlessness came over Amani\, as he glanced to see where this force was coming from he saw the pattern of a blanket. This pattern is as etched in his mind as it is in his glass work.
URL:https://6-bricks-staging.rankreallyhigh.dev/event/6-days-of-christmas-at-6-bricks/
LOCATION:6 Brick’s Dispensary\, 1860 Main St\, Springfield\, MA\, 01103\, United States
ATTACH;FMTTYPE=application/pdf:https://6-bricks-staging.rankreallyhigh.dev/wp-content/uploads/2023/12/6-Bricks_A-6-Bricks-Christmas-Flyer_12-23-1.pdf
END:VEVENT
BEGIN:VEVENT
DTSTART;TZID=America/New_York:20231218T090000
DTEND;TZID=America/New_York:20231224T210000
DTSTAMP:20260419T184113
CREATED:20231218T143015Z
LAST-MODIFIED:20231218T143019Z
UID:10000165-1702890000-1703451600@6-bricks-staging.rankreallyhigh.dev
SUMMARY:A 6 Brick's Christmas!
DESCRIPTION:Happy holidays from your friends at 6 Brick’s! Enjoy some of our top specials from 12/18-12/24 or while supplies last! Come in store for more details.
URL:https://6-bricks-staging.rankreallyhigh.dev/event/a-6-bricks-christmas/
LOCATION:6 Brick’s Dispensary\, 1860 Main St\, Springfield\, MA\, 01103\, United States
ATTACH;FMTTYPE=image/png:https://6-bricks-staging.rankreallyhigh.dev/wp-content/uploads/2023/12/A-6-Bricks-Christmas-w-6-Bricks-28g-FINAL-1.png
END:VEVENT
BEGIN:VEVENT
DTSTART;TZID=America/New_York:20231222T090000
DTEND;TZID=America/New_York:20231222T200000
DTSTAMP:20260419T184113
CREATED:20231126T182647Z
LAST-MODIFIED:20231206T225305Z
UID:10000148-1703235600-1703275200@6-bricks-staging.rankreallyhigh.dev
SUMMARY:DELI-STYLE FRIDAY FROM 9AM-8PM
DESCRIPTION:DELI-STYLE IS BACK from 9am – 8pm on Friday\, December 22nd at our Springfield weed dispensary. Select strains will be available for you to choose from. Your budtender will weigh the amount of buds you would like right before you! Deli-style ends at 8pm or while supplies last. This offer is only available in-store and on select Fridays\, don’t miss out! \nBe sure to subscribe to our weed events calendar and follow us for more cannabis events in Springfield!
URL:https://6-bricks-staging.rankreallyhigh.dev/event/deli-style-friday-from-9am-8pm-7/
LOCATION:6 Brick’s Dispensary\, 1860 Main St\, Springfield\, MA\, 01103\, United States
ATTACH;FMTTYPE=image/jpeg:https://6-bricks-staging.rankreallyhigh.dev/wp-content/uploads/2023/03/budding-jE-2EFjYaZg-unsplash-scaled.jpg
END:VEVENT
BEGIN:VEVENT
DTSTART;TZID=America/New_York:20231222T120000
DTEND;TZID=America/New_York:20231222T140000
DTSTAMP:20260419T184113
CREATED:20231205T192954Z
LAST-MODIFIED:20231206T225555Z
UID:10000160-1703246400-1703253600@6-bricks-staging.rankreallyhigh.dev
SUMMARY:Simply Herb | Ozone (Ascend) Pop-up
DESCRIPTION:Come join us on December 22nd from 12-2pm for a pop-up with our friends from Simply Herb at 6 Brick’s Dispensary 1860 Main St\, Springfield\, MA. \nBe sure to subscribe to our weed events calendar and follow us for more cannabis events in Springfield! \n\nABOUT ASCEND: Dabs. Love drops. Stress-squashing pre-rolls. Is photosynthesis great\, or what? At Ascend\, we believe there is endless potential to what cannabis can be as a product and as a positive force in culture. We are a multi-state\, muliti-use\, multi-anything store with a menu designed to cater to individual tastes and interests.
URL:https://6-bricks-staging.rankreallyhigh.dev/event/simply-herb-ozone-ascend-pop-up-4/
LOCATION:6 Brick’s Dispensary\, 1860 Main St\, Springfield\, MA\, 01103\, United States
ATTACH;FMTTYPE=image/png:https://6-bricks-staging.rankreallyhigh.dev/wp-content/uploads/2023/03/s.herb-logo.png
END:VEVENT
END:VCALENDAR