BEGIN:VCALENDAR
VERSION:2.0
PRODID:-//6 Brick&#039;s - ECPv6.15.18//NONSGML v1.0//EN
CALSCALE:GREGORIAN
METHOD:PUBLISH
X-WR-CALNAME:6 Brick&#039;s
X-ORIGINAL-URL:https://6-bricks-staging.rankreallyhigh.dev
X-WR-CALDESC:Events for 6 Brick&#039;s
REFRESH-INTERVAL;VALUE=DURATION:PT1H
X-Robots-Tag:noindex
X-PUBLISHED-TTL:PT1H
BEGIN:VTIMEZONE
TZID:America/New_York
BEGIN:DAYLIGHT
TZOFFSETFROM:-0500
TZOFFSETTO:-0400
TZNAME:EDT
DTSTART:20220313T070000
END:DAYLIGHT
BEGIN:STANDARD
TZOFFSETFROM:-0400
TZOFFSETTO:-0500
TZNAME:EST
DTSTART:20221106T060000
END:STANDARD
BEGIN:DAYLIGHT
TZOFFSETFROM:-0500
TZOFFSETTO:-0400
TZNAME:EDT
DTSTART:20230312T070000
END:DAYLIGHT
BEGIN:STANDARD
TZOFFSETFROM:-0400
TZOFFSETTO:-0500
TZNAME:EST
DTSTART:20231105T060000
END:STANDARD
BEGIN:DAYLIGHT
TZOFFSETFROM:-0500
TZOFFSETTO:-0400
TZNAME:EDT
DTSTART:20240310T070000
END:DAYLIGHT
BEGIN:STANDARD
TZOFFSETFROM:-0400
TZOFFSETTO:-0500
TZNAME:EST
DTSTART:20241103T060000
END:STANDARD
END:VTIMEZONE
BEGIN:VEVENT
DTSTART;TZID=America/New_York:20231228T160000
DTEND;TZID=America/New_York:20231228T190000
DTSTAMP:20260419T184112
CREATED:20231205T193530Z
LAST-MODIFIED:20231206T225718Z
UID:10000161-1703779200-1703790000@6-bricks-staging.rankreallyhigh.dev
SUMMARY:Ahh Chocolate Pop-up
DESCRIPTION:Come join us for an Ahh Chocolate pop-up on December 28th from 4-7pm at 6Brick’s Weed Dispensary 1860 Main St\, Springfield\, MA. \nBe sure to subscribe to our weed events calendar and follow us for more cannabis events in Springfield! \nABOUT AHH CHOCOLATE: We started with the spirit of creativity and soulful intentions. Making sure we deliver the highest quality products of responsibly sourced goodness. Hand-crafting cannabis confections to guide our community into a deeper experience of flavor\, connection to ingredients\, plant medicine and self-care. Award winning chocolate from small batch makers is at the heart of what we do. Our herbalist inspired recipes bring an added dimension of health conscious\, healing ingredients into a full cannabinoid\, full spectrum experience\, every time.
URL:https://6-bricks-staging.rankreallyhigh.dev/event/ahh-chocolate-pop-up-6/
LOCATION:6 Brick’s Dispensary\, 1860 Main St\, Springfield\, MA\, 01103\, United States
ATTACH;FMTTYPE=image/png:https://6-bricks-staging.rankreallyhigh.dev/wp-content/uploads/2023/05/Ahh-Chocolate-logo-200x200px.png
END:VEVENT
END:VCALENDAR