BEGIN:VCALENDAR
VERSION:2.0
PRODID:-//6 Brick&#039;s - ECPv6.15.18//NONSGML v1.0//EN
CALSCALE:GREGORIAN
METHOD:PUBLISH
X-WR-CALNAME:6 Brick&#039;s
X-ORIGINAL-URL:https://6-bricks-staging.rankreallyhigh.dev
X-WR-CALDESC:Events for 6 Brick&#039;s
REFRESH-INTERVAL;VALUE=DURATION:PT1H
X-Robots-Tag:noindex
X-PUBLISHED-TTL:PT1H
BEGIN:VTIMEZONE
TZID:America/New_York
BEGIN:DAYLIGHT
TZOFFSETFROM:-0500
TZOFFSETTO:-0400
TZNAME:EDT
DTSTART:20230312T070000
END:DAYLIGHT
BEGIN:STANDARD
TZOFFSETFROM:-0400
TZOFFSETTO:-0500
TZNAME:EST
DTSTART:20231105T060000
END:STANDARD
BEGIN:DAYLIGHT
TZOFFSETFROM:-0500
TZOFFSETTO:-0400
TZNAME:EDT
DTSTART:20240310T070000
END:DAYLIGHT
BEGIN:STANDARD
TZOFFSETFROM:-0400
TZOFFSETTO:-0500
TZNAME:EST
DTSTART:20241103T060000
END:STANDARD
BEGIN:DAYLIGHT
TZOFFSETFROM:-0500
TZOFFSETTO:-0400
TZNAME:EDT
DTSTART:20250309T070000
END:DAYLIGHT
BEGIN:STANDARD
TZOFFSETFROM:-0400
TZOFFSETTO:-0500
TZNAME:EST
DTSTART:20251102T060000
END:STANDARD
END:VTIMEZONE
BEGIN:VEVENT
DTSTART;TZID=America/New_York:20240113T120000
DTEND;TZID=America/New_York:20240113T150000
DTSTAMP:20260419T170446
CREATED:20231231T202055Z
LAST-MODIFIED:20240110T195731Z
UID:10000170-1705147200-1705158000@6-bricks-staging.rankreallyhigh.dev
SUMMARY:Solar Cannabis Co. Pop-up
DESCRIPTION:Come join us for on January 13th from 12-3pm for a pop-up with our friends from Solar Cannabis Co. at 6Brick’s Dispensary 1860 Main St\, Springfield\, MA. \nABOUT SOLAR CANNABIS CO: Here at Solar Therapeutics we take pride in being able to assist our patients and consumers in finding the right products for their needs. Our team of budtenders are trained to help educate and guide you through the process and are available if you have any questions.
URL:https://6-bricks-staging.rankreallyhigh.dev/event/solar-cannabis-co-pop-up-2/
LOCATION:6 Brick’s Dispensary\, 1860 Main St\, Springfield\, MA\, 01103\, United States
ATTACH;FMTTYPE=image/png:https://6-bricks-staging.rankreallyhigh.dev/wp-content/uploads/2023/09/solar-logo.png
END:VEVENT
END:VCALENDAR