BEGIN:VCALENDAR
VERSION:2.0
PRODID:-//6 Brick&#039;s - ECPv6.15.18//NONSGML v1.0//EN
CALSCALE:GREGORIAN
METHOD:PUBLISH
X-WR-CALNAME:6 Brick&#039;s
X-ORIGINAL-URL:https://6-bricks-staging.rankreallyhigh.dev
X-WR-CALDESC:Events for 6 Brick&#039;s
REFRESH-INTERVAL;VALUE=DURATION:PT1H
X-Robots-Tag:noindex
X-PUBLISHED-TTL:PT1H
BEGIN:VTIMEZONE
TZID:America/New_York
BEGIN:DAYLIGHT
TZOFFSETFROM:-0500
TZOFFSETTO:-0400
TZNAME:EDT
DTSTART:20230312T070000
END:DAYLIGHT
BEGIN:STANDARD
TZOFFSETFROM:-0400
TZOFFSETTO:-0500
TZNAME:EST
DTSTART:20231105T060000
END:STANDARD
BEGIN:DAYLIGHT
TZOFFSETFROM:-0500
TZOFFSETTO:-0400
TZNAME:EDT
DTSTART:20240310T070000
END:DAYLIGHT
BEGIN:STANDARD
TZOFFSETFROM:-0400
TZOFFSETTO:-0500
TZNAME:EST
DTSTART:20241103T060000
END:STANDARD
BEGIN:DAYLIGHT
TZOFFSETFROM:-0500
TZOFFSETTO:-0400
TZNAME:EDT
DTSTART:20250309T070000
END:DAYLIGHT
BEGIN:STANDARD
TZOFFSETFROM:-0400
TZOFFSETTO:-0500
TZNAME:EST
DTSTART:20251102T060000
END:STANDARD
END:VTIMEZONE
BEGIN:VEVENT
DTSTART;TZID=America/New_York:20240120T120000
DTEND;TZID=America/New_York:20240120T150000
DTSTAMP:20260419T170445
CREATED:20231231T205459Z
LAST-MODIFIED:20240128T153605Z
UID:10000176-1705752000-1705762800@6-bricks-staging.rankreallyhigh.dev
SUMMARY:Eureka Pop-up
DESCRIPTION:Come join us for a Eureka Pop-up on January 20th from 12:00-3:00pm at 6Brick’s Weed Dispensary 1860 Main St\, Springfield\, MA. \nABOUT EUREKA: EUREKA started as an aha moment in California in 2011 when the founders discovered C02 extraction. Since then EUREKA has continued to pioneer the modern vape pen industry. As consumers ourselves\, we understand the importance of having access to high quality products that are both pure and potent.
URL:https://6-bricks-staging.rankreallyhigh.dev/event/eureka-pop-up/
LOCATION:6 Brick’s Dispensary\, 1860 Main St\, Springfield\, MA\, 01103\, United States
ATTACH;FMTTYPE=image/jpeg:https://6-bricks-staging.rankreallyhigh.dev/wp-content/uploads/2023/12/Eureka-logo.jpeg
END:VEVENT
END:VCALENDAR