BEGIN:VCALENDAR
VERSION:2.0
PRODID:-//6 Brick&#039;s - ECPv6.15.18//NONSGML v1.0//EN
CALSCALE:GREGORIAN
METHOD:PUBLISH
X-ORIGINAL-URL:https://6-bricks-staging.rankreallyhigh.dev
X-WR-CALDESC:Events for 6 Brick&#039;s
REFRESH-INTERVAL;VALUE=DURATION:PT1H
X-Robots-Tag:noindex
X-PUBLISHED-TTL:PT1H
BEGIN:VTIMEZONE
TZID:America/New_York
BEGIN:DAYLIGHT
TZOFFSETFROM:-0500
TZOFFSETTO:-0400
TZNAME:EDT
DTSTART:20230312T070000
END:DAYLIGHT
BEGIN:STANDARD
TZOFFSETFROM:-0400
TZOFFSETTO:-0500
TZNAME:EST
DTSTART:20231105T060000
END:STANDARD
BEGIN:DAYLIGHT
TZOFFSETFROM:-0500
TZOFFSETTO:-0400
TZNAME:EDT
DTSTART:20240310T070000
END:DAYLIGHT
BEGIN:STANDARD
TZOFFSETFROM:-0400
TZOFFSETTO:-0500
TZNAME:EST
DTSTART:20241103T060000
END:STANDARD
BEGIN:DAYLIGHT
TZOFFSETFROM:-0500
TZOFFSETTO:-0400
TZNAME:EDT
DTSTART:20250309T070000
END:DAYLIGHT
BEGIN:STANDARD
TZOFFSETFROM:-0400
TZOFFSETTO:-0500
TZNAME:EST
DTSTART:20251102T060000
END:STANDARD
END:VTIMEZONE
BEGIN:VEVENT
DTSTART;TZID=America/New_York:20240123T150000
DTEND;TZID=America/New_York:20240123T180000
DTSTAMP:20260419T170515
CREATED:20240109T194746Z
LAST-MODIFIED:20240128T153626Z
UID:10000179-1706022000-1706032800@6-bricks-staging.rankreallyhigh.dev
SUMMARY:The Pass Pop-up
DESCRIPTION:Come join us on January 23rd from 3-6pm for a pop-up with our friends from The Pass at 6Brick’s Dispensary 1860 Main St\, Springfield\, MA. \nABOUT THE PASS: The Pass grows clean\, crystalline cannabis\, for a full range of flavor and experience\, with an unwavering devotion to environmental stewardship. Our indoor\, greenhouse\, and farm field cultivation facilities have been correspondingly curated with unique genetics for yield\, purity\, and consistency. From germination to curing\, our experienced\, impassioned team employs mindfulness and methodology to unleash and harness the wonders of nature. We cultivate healthy plants with Berkshire water\, and proven technology for precise irrigation and climate control.
URL:https://6-bricks-staging.rankreallyhigh.dev/event/the-pass-pop-up-2/
LOCATION:6 Brick’s Dispensary\, 1860 Main St\, Springfield\, MA\, 01103\, United States
ATTACH;FMTTYPE=image/png:https://6-bricks-staging.rankreallyhigh.dev/wp-content/uploads/2023/05/The-Pass-logo.png
END:VEVENT
END:VCALENDAR