BEGIN:VCALENDAR
VERSION:2.0
PRODID:-//6 Brick&#039;s - ECPv6.15.18//NONSGML v1.0//EN
CALSCALE:GREGORIAN
METHOD:PUBLISH
X-ORIGINAL-URL:https://6-bricks-staging.rankreallyhigh.dev
X-WR-CALDESC:Events for 6 Brick&#039;s
REFRESH-INTERVAL;VALUE=DURATION:PT1H
X-Robots-Tag:noindex
X-PUBLISHED-TTL:PT1H
BEGIN:VTIMEZONE
TZID:America/New_York
BEGIN:DAYLIGHT
TZOFFSETFROM:-0500
TZOFFSETTO:-0400
TZNAME:EDT
DTSTART:20230312T070000
END:DAYLIGHT
BEGIN:STANDARD
TZOFFSETFROM:-0400
TZOFFSETTO:-0500
TZNAME:EST
DTSTART:20231105T060000
END:STANDARD
BEGIN:DAYLIGHT
TZOFFSETFROM:-0500
TZOFFSETTO:-0400
TZNAME:EDT
DTSTART:20240310T070000
END:DAYLIGHT
BEGIN:STANDARD
TZOFFSETFROM:-0400
TZOFFSETTO:-0500
TZNAME:EST
DTSTART:20241103T060000
END:STANDARD
BEGIN:DAYLIGHT
TZOFFSETFROM:-0500
TZOFFSETTO:-0400
TZNAME:EDT
DTSTART:20250309T070000
END:DAYLIGHT
BEGIN:STANDARD
TZOFFSETFROM:-0400
TZOFFSETTO:-0500
TZNAME:EST
DTSTART:20251102T060000
END:STANDARD
END:VTIMEZONE
BEGIN:VEVENT
DTSTART;TZID=America/New_York:20240125T090000
DTEND;TZID=America/New_York:20240127T200000
DTSTAMP:20260419T170513
CREATED:20240125T133704Z
LAST-MODIFIED:20240125T133707Z
UID:10000181-1706173200-1706385600@6-bricks-staging.rankreallyhigh.dev
SUMMARY:DELI-STYLE THURSDAY 1/25 - SATURDAY 1/27 FROM 9AM-8PM
DESCRIPTION:DELI-STYLE IS BACK & BETTER THAN EVER! Stop in from 9am – 8pm Thursday Januray 25th – Saturday 27th at our Springfield weed dispensary. Select strains will be available for you to choose from. Your budtender will weigh the amount of buds you would like right before you! Deli-style ends at 8pm or while supplies last. This offer is only available in-store and on select Fridays\, don’t miss out! \nBe sure to subscribe to our weed events calendar and follow us for more cannabis events in Springfield!
URL:https://6-bricks-staging.rankreallyhigh.dev/event/deli-style-thursday-1-25-saturday-1-27-from-9am-8pm/
LOCATION:6 Brick’s Dispensary\, 1860 Main St\, Springfield\, MA\, 01103\, United States
ATTACH;FMTTYPE=image/jpeg:https://6-bricks-staging.rankreallyhigh.dev/wp-content/uploads/2024/01/Deli-December-TV-H-100-2.jpg
END:VEVENT
BEGIN:VEVENT
DTSTART;TZID=America/New_York:20240125T150000
DTEND;TZID=America/New_York:20240125T170000
DTSTAMP:20260419T170513
CREATED:20231231T205103Z
LAST-MODIFIED:20231231T205103Z
UID:10000174-1706194800-1706202000@6-bricks-staging.rankreallyhigh.dev
SUMMARY:Betty's Eddies | Nature's Heritage | Vibations | Bubby's Baked | In House (ARL Healthcare) Pop-up
DESCRIPTION:Come join us for an ARL Healthcare pop-up on January 25th from 3-5pm at 6 Brick’s Weed Dispensary 1860 Main St\, Springfield\, MA. \nABOUT ARL HEALTHCARE: ARL Healthcare\, a unit of MariMed\, Inc.\, is a leading cultivator\, processor\, and distributor of the highest quality cannabis products in Massachusetts. Based in New Bedford\, MA\, ARL produces and distributes many of the top-selling flower\, concentrates\, and edibles in the state\, including the Nature’s Heritage flower and concentrates brand\, Betty’s Eddies all-natural fruit chews\, Bubby’s Baked soft and chewy baked goods and hot chocolate\, Vibations: High + Energy powder drink mix\, and more.
URL:https://6-bricks-staging.rankreallyhigh.dev/event/bettys-eddies-natures-heritage-vibations-bubbys-baked-in-house-arl-healthcare-pop-up-2/
LOCATION:6 Brick’s Dispensary\, 1860 Main St\, Springfield\, MA\, 01103\, United States
ATTACH;FMTTYPE=image/png:https://6-bricks-staging.rankreallyhigh.dev/wp-content/uploads/2023/11/ARL-HEALTHCARE.png
END:VEVENT
END:VCALENDAR