BEGIN:VCALENDAR
VERSION:2.0
PRODID:-//6 Brick&#039;s - ECPv6.15.18//NONSGML v1.0//EN
CALSCALE:GREGORIAN
METHOD:PUBLISH
X-ORIGINAL-URL:https://6-bricks-staging.rankreallyhigh.dev
X-WR-CALDESC:Events for 6 Brick&#039;s
REFRESH-INTERVAL;VALUE=DURATION:PT1H
X-Robots-Tag:noindex
X-PUBLISHED-TTL:PT1H
BEGIN:VTIMEZONE
TZID:America/New_York
BEGIN:DAYLIGHT
TZOFFSETFROM:-0500
TZOFFSETTO:-0400
TZNAME:EDT
DTSTART:20230312T070000
END:DAYLIGHT
BEGIN:STANDARD
TZOFFSETFROM:-0400
TZOFFSETTO:-0500
TZNAME:EST
DTSTART:20231105T060000
END:STANDARD
BEGIN:DAYLIGHT
TZOFFSETFROM:-0500
TZOFFSETTO:-0400
TZNAME:EDT
DTSTART:20240310T070000
END:DAYLIGHT
BEGIN:STANDARD
TZOFFSETFROM:-0400
TZOFFSETTO:-0500
TZNAME:EST
DTSTART:20241103T060000
END:STANDARD
BEGIN:DAYLIGHT
TZOFFSETFROM:-0500
TZOFFSETTO:-0400
TZNAME:EDT
DTSTART:20250309T070000
END:DAYLIGHT
BEGIN:STANDARD
TZOFFSETFROM:-0400
TZOFFSETTO:-0500
TZNAME:EST
DTSTART:20251102T060000
END:STANDARD
END:VTIMEZONE
BEGIN:VEVENT
DTSTART;TZID=America/New_York:20240201T090000
DTEND;TZID=America/New_York:20240203T200000
DTSTAMP:20260419T123843
CREATED:20240128T145202Z
LAST-MODIFIED:20240128T145202Z
UID:10000185-1706778000-1706990400@6-bricks-staging.rankreallyhigh.dev
SUMMARY:DELI-STYLE FROM 9AM - 8PM | THURSDAY 2/1 - SATURDAY 2/3
DESCRIPTION:DELI-STYLE IS BACK & BETTER THAN EVER! Stop in from 9am – 8pm Thursday February 1st – Saturday February 3rd at our Springfield weed dispensary. Select strains will be available for you to choose from. Your budtender will weigh the amount of buds you would like right before you! Deli-style ends at 8pm or while supplies last. This offer is only available in-store and on select days\, don’t miss out! \nBe sure to subscribe to our weed events calendar and follow us for more cannabis events in Springfield!
URL:https://6-bricks-staging.rankreallyhigh.dev/event/deli-style-from-9am-8pm-thursday-2-1-saturday-2-3/
LOCATION:6 Brick’s Dispensary\, 1860 Main St\, Springfield\, MA\, 01103\, United States
ATTACH;FMTTYPE=image/jpeg:https://6-bricks-staging.rankreallyhigh.dev/wp-content/uploads/2024/01/Deli_December_TV_H-100.jpg
END:VEVENT
BEGIN:VEVENT
DTSTART;TZID=America/New_York:20240202T160000
DTEND;TZID=America/New_York:20240202T190000
DTSTAMP:20260419T123843
CREATED:20240127T214840Z
LAST-MODIFIED:20240127T214840Z
UID:10000182-1706889600-1706900400@6-bricks-staging.rankreallyhigh.dev
SUMMARY:The Pass Pop-up
DESCRIPTION:Come join us on February 2nd from 4-7pm for a pop-up with our friends from The Pass at 6 Brick’s Dispensary 1860 Main St\, Springfield\, MA. \nABOUT THE PASS: The Pass grows clean\, crystalline cannabis\, for a full range of flavor and experience\, with an unwavering devotion to environmental stewardship. Our indoor\, greenhouse\, and farm field cultivation facilities have been correspondingly curated with unique genetics for yield\, purity\, and consistency. From germination to curing\, our experienced\, impassioned team employs mindfulness and methodology to unleash and harness the wonders of nature. We cultivate healthy plants with Berkshire water\, and proven technology for precise irrigation and climate control.
URL:https://6-bricks-staging.rankreallyhigh.dev/event/the-pass-pop-up-4/
LOCATION:6 Brick’s Dispensary\, 1860 Main St\, Springfield\, MA\, 01103\, United States
ATTACH;FMTTYPE=image/png:https://6-bricks-staging.rankreallyhigh.dev/wp-content/uploads/2023/05/The-Pass-logo.png
END:VEVENT
END:VCALENDAR