BEGIN:VCALENDAR
VERSION:2.0
PRODID:-//6 Brick&#039;s - ECPv6.15.18//NONSGML v1.0//EN
CALSCALE:GREGORIAN
METHOD:PUBLISH
X-ORIGINAL-URL:https://6-bricks-staging.rankreallyhigh.dev
X-WR-CALDESC:Events for 6 Brick&#039;s
REFRESH-INTERVAL;VALUE=DURATION:PT1H
X-Robots-Tag:noindex
X-PUBLISHED-TTL:PT1H
BEGIN:VTIMEZONE
TZID:America/New_York
BEGIN:DAYLIGHT
TZOFFSETFROM:-0500
TZOFFSETTO:-0400
TZNAME:EDT
DTSTART:20230312T070000
END:DAYLIGHT
BEGIN:STANDARD
TZOFFSETFROM:-0400
TZOFFSETTO:-0500
TZNAME:EST
DTSTART:20231105T060000
END:STANDARD
BEGIN:DAYLIGHT
TZOFFSETFROM:-0500
TZOFFSETTO:-0400
TZNAME:EDT
DTSTART:20240310T070000
END:DAYLIGHT
BEGIN:STANDARD
TZOFFSETFROM:-0400
TZOFFSETTO:-0500
TZNAME:EST
DTSTART:20241103T060000
END:STANDARD
BEGIN:DAYLIGHT
TZOFFSETFROM:-0500
TZOFFSETTO:-0400
TZNAME:EDT
DTSTART:20250309T070000
END:DAYLIGHT
BEGIN:STANDARD
TZOFFSETFROM:-0400
TZOFFSETTO:-0500
TZNAME:EST
DTSTART:20251102T060000
END:STANDARD
END:VTIMEZONE
BEGIN:VEVENT
DTSTART;TZID=America/New_York:20240209T090000
DTEND;TZID=America/New_York:20240209T200000
DTSTAMP:20260419T141030
CREATED:20240128T150713Z
LAST-MODIFIED:20240128T150713Z
UID:10000188-1707469200-1707508800@6-bricks-staging.rankreallyhigh.dev
SUMMARY:DELI-STYLE FRIDAY FROM 9AM-8PM
DESCRIPTION:Deli-style is available every Friday from 9am – 8pm at our Springfield weed dispensary. Select strains will be available for you to choose from. Your budtender will weigh the amount of buds you would like right before you! Deli-style ends at 8pm or while supplies last. This offer is only available in-store and on select days\, don’t miss out! \nBe sure to subscribe to our weed events calendar and follow us for more cannabis events in Springfield!
URL:https://6-bricks-staging.rankreallyhigh.dev/event/deli-style-friday-from-9am-8pm-9/
LOCATION:6 Brick’s Dispensary\, 1860 Main St\, Springfield\, MA\, 01103\, United States
ATTACH;FMTTYPE=image/jpeg:https://6-bricks-staging.rankreallyhigh.dev/wp-content/uploads/2023/03/budding-jE-2EFjYaZg-unsplash-scaled.jpg
END:VEVENT
BEGIN:VEVENT
DTSTART;TZID=America/New_York:20240209T120000
DTEND;TZID=America/New_York:20240209T140000
DTSTAMP:20260419T141030
CREATED:20240128T150139Z
LAST-MODIFIED:20240128T164913Z
UID:10000186-1707480000-1707487200@6-bricks-staging.rankreallyhigh.dev
SUMMARY:Khalifa Kush Pop-up *Black-owned Brand*
DESCRIPTION:Come join us for a Khalifa Kush Pop-up on February 9th from 12pm-2pm 6 Brick’s Weed Dispensary 1860 Main St\, Springfield\, MA \nABOUT KHALIFA KUSH: Founded\, perfected\, and enjoyed by Wiz Khalifa over the last decade\, our world class genetics power a full line of flower\, pre-rolls\, vapes\, edibles\, and concentrates\, now available in select markets
URL:https://6-bricks-staging.rankreallyhigh.dev/event/khalifa-kush-pop-up/
LOCATION:6 Brick’s Dispensary\, 1860 Main St\, Springfield\, MA\, 01103\, United States
ATTACH;FMTTYPE=image/jpeg:https://6-bricks-staging.rankreallyhigh.dev/wp-content/uploads/2024/01/KK-logo.jpg
END:VEVENT
END:VCALENDAR