BEGIN:VCALENDAR
VERSION:2.0
PRODID:-//6 Brick&#039;s - ECPv6.15.18//NONSGML v1.0//EN
CALSCALE:GREGORIAN
METHOD:PUBLISH
X-WR-CALNAME:6 Brick&#039;s
X-ORIGINAL-URL:https://6-bricks-staging.rankreallyhigh.dev
X-WR-CALDESC:Events for 6 Brick&#039;s
REFRESH-INTERVAL;VALUE=DURATION:PT1H
X-Robots-Tag:noindex
X-PUBLISHED-TTL:PT1H
BEGIN:VTIMEZONE
TZID:America/New_York
BEGIN:DAYLIGHT
TZOFFSETFROM:-0500
TZOFFSETTO:-0400
TZNAME:EDT
DTSTART:20230312T070000
END:DAYLIGHT
BEGIN:STANDARD
TZOFFSETFROM:-0400
TZOFFSETTO:-0500
TZNAME:EST
DTSTART:20231105T060000
END:STANDARD
BEGIN:DAYLIGHT
TZOFFSETFROM:-0500
TZOFFSETTO:-0400
TZNAME:EDT
DTSTART:20240310T070000
END:DAYLIGHT
BEGIN:STANDARD
TZOFFSETFROM:-0400
TZOFFSETTO:-0500
TZNAME:EST
DTSTART:20241103T060000
END:STANDARD
BEGIN:DAYLIGHT
TZOFFSETFROM:-0500
TZOFFSETTO:-0400
TZNAME:EDT
DTSTART:20250309T070000
END:DAYLIGHT
BEGIN:STANDARD
TZOFFSETFROM:-0400
TZOFFSETTO:-0500
TZNAME:EST
DTSTART:20251102T060000
END:STANDARD
END:VTIMEZONE
BEGIN:VEVENT
DTSTART;TZID=America/New_York:20240214T150000
DTEND;TZID=America/New_York:20240214T180000
DTSTAMP:20260419T123650
CREATED:20240128T150306Z
LAST-MODIFIED:20240128T150306Z
UID:10000187-1707922800-1707933600@6-bricks-staging.rankreallyhigh.dev
SUMMARY:Northeast Alternatives Pop-up
DESCRIPTION:Come join us for an NEA Pop-up on February 14th from 3:00pm-6:00pm at 6 Brick’s Weed Dispensary 1860 Main St\, Springfield\, MA. \nABOUT NEA: At Northeast Alternatives\, we truly believe in the life-changing benefits of cannabis and are committed to producing high-quality\, 100% compliant products that meet and exceed the expectations of our patients and customers each and every time. We offer a wide variety of products including flower\, edibles\, concentrates\, and topicals and are happy to help you find products that best meet your needs. Our core values are quality\, commitment\, innovation\, integrity\, and community engagement. All of which stem from our leadership team’s own experience of empowering family members to take charge of their health by using medical marijuana.
URL:https://6-bricks-staging.rankreallyhigh.dev/event/northeast-alternatives-pop-up-5/
LOCATION:6 Brick’s Dispensary\, 1860 Main St\, Springfield\, MA\, 01103\, United States
ATTACH;FMTTYPE=image/jpeg:https://6-bricks-staging.rankreallyhigh.dev/wp-content/uploads/2023/01/northeast-alternatives.jpeg
END:VEVENT
END:VCALENDAR