BEGIN:VCALENDAR
VERSION:2.0
PRODID:-//6 Brick&#039;s - ECPv6.15.18//NONSGML v1.0//EN
CALSCALE:GREGORIAN
METHOD:PUBLISH
X-ORIGINAL-URL:https://6-bricks-staging.rankreallyhigh.dev
X-WR-CALDESC:Events for 6 Brick&#039;s
REFRESH-INTERVAL;VALUE=DURATION:PT1H
X-Robots-Tag:noindex
X-PUBLISHED-TTL:PT1H
BEGIN:VTIMEZONE
TZID:America/New_York
BEGIN:DAYLIGHT
TZOFFSETFROM:-0500
TZOFFSETTO:-0400
TZNAME:EDT
DTSTART:20230312T070000
END:DAYLIGHT
BEGIN:STANDARD
TZOFFSETFROM:-0400
TZOFFSETTO:-0500
TZNAME:EST
DTSTART:20231105T060000
END:STANDARD
BEGIN:DAYLIGHT
TZOFFSETFROM:-0500
TZOFFSETTO:-0400
TZNAME:EDT
DTSTART:20240310T070000
END:DAYLIGHT
BEGIN:STANDARD
TZOFFSETFROM:-0400
TZOFFSETTO:-0500
TZNAME:EST
DTSTART:20241103T060000
END:STANDARD
BEGIN:DAYLIGHT
TZOFFSETFROM:-0500
TZOFFSETTO:-0400
TZNAME:EDT
DTSTART:20250309T070000
END:DAYLIGHT
BEGIN:STANDARD
TZOFFSETFROM:-0400
TZOFFSETTO:-0500
TZNAME:EST
DTSTART:20251102T060000
END:STANDARD
END:VTIMEZONE
BEGIN:VEVENT
DTSTART;TZID=America/New_York:20240216T090000
DTEND;TZID=America/New_York:20240216T200000
DTSTAMP:20260419T121720
CREATED:20240128T150755Z
LAST-MODIFIED:20240128T150755Z
UID:10000189-1708074000-1708113600@6-bricks-staging.rankreallyhigh.dev
SUMMARY:DELI-STYLE FRIDAY FROM 9AM-8PM
DESCRIPTION:Deli-style is available every Friday from 9am – 8pm at our Springfield weed dispensary. Select strains will be available for you to choose from. Your budtender will weigh the amount of buds you would like right before you! Deli-style ends at 8pm or while supplies last. This offer is only available in-store and on select days\, don’t miss out! \nBe sure to subscribe to our weed events calendar and follow us for more cannabis events in Springfield!
URL:https://6-bricks-staging.rankreallyhigh.dev/event/deli-style-friday-from-9am-8pm-10/
LOCATION:6 Brick’s Dispensary\, 1860 Main St\, Springfield\, MA\, 01103\, United States
ATTACH;FMTTYPE=image/jpeg:https://6-bricks-staging.rankreallyhigh.dev/wp-content/uploads/2023/03/budding-jE-2EFjYaZg-unsplash-scaled.jpg
END:VEVENT
BEGIN:VEVENT
DTSTART;TZID=America/New_York:20240216T110000
DTEND;TZID=America/New_York:20240216T140000
DTSTAMP:20260419T121720
CREATED:20240128T151754Z
LAST-MODIFIED:20240128T151754Z
UID:10000192-1708081200-1708092000@6-bricks-staging.rankreallyhigh.dev
SUMMARY:Root & Bloom Pop-up
DESCRIPTION:Come join us for a Root & Bloom Pop-up on February 16th from 11:00am-2:00pm 6 Brick’s Weed Dispensary 1860 Main St\, Springfield\, MA \nABOUT ROOT & BLOOM: Root & Bloom is a Massachusetts cannabis cultivation\, extraction & manufacturing company laser-focused on creating the best products and experiences–for everyone. Great work requires great people\, and we think our team are some of the best.  We’re a friendly (but competitive!) group and we enjoy what we do. Our expertise and perspective help us create solutions that go far beyond just a good idea. With a head for innovation\, a heart for sustainability\, and our feet firmly planted in our home state\, we are here to ignite the industry.
URL:https://6-bricks-staging.rankreallyhigh.dev/event/root-bloom-pop-up-7/
LOCATION:6 Brick’s Dispensary\, 1860 Main St\, Springfield\, MA\, 01103\, United States
ATTACH;FMTTYPE=image/jpeg:https://6-bricks-staging.rankreallyhigh.dev/wp-content/uploads/2023/01/root-bloom-craft-cannabis-featured-image-e1675191974855.jpg
END:VEVENT
END:VCALENDAR