BEGIN:VCALENDAR
VERSION:2.0
PRODID:-//6 Brick&#039;s - ECPv6.15.18//NONSGML v1.0//EN
CALSCALE:GREGORIAN
METHOD:PUBLISH
X-ORIGINAL-URL:https://6-bricks-staging.rankreallyhigh.dev
X-WR-CALDESC:Events for 6 Brick&#039;s
REFRESH-INTERVAL;VALUE=DURATION:PT1H
X-Robots-Tag:noindex
X-PUBLISHED-TTL:PT1H
BEGIN:VTIMEZONE
TZID:America/New_York
BEGIN:DAYLIGHT
TZOFFSETFROM:-0500
TZOFFSETTO:-0400
TZNAME:EDT
DTSTART:20230312T070000
END:DAYLIGHT
BEGIN:STANDARD
TZOFFSETFROM:-0400
TZOFFSETTO:-0500
TZNAME:EST
DTSTART:20231105T060000
END:STANDARD
BEGIN:DAYLIGHT
TZOFFSETFROM:-0500
TZOFFSETTO:-0400
TZNAME:EDT
DTSTART:20240310T070000
END:DAYLIGHT
BEGIN:STANDARD
TZOFFSETFROM:-0400
TZOFFSETTO:-0500
TZNAME:EST
DTSTART:20241103T060000
END:STANDARD
BEGIN:DAYLIGHT
TZOFFSETFROM:-0500
TZOFFSETTO:-0400
TZNAME:EDT
DTSTART:20250309T070000
END:DAYLIGHT
BEGIN:STANDARD
TZOFFSETFROM:-0400
TZOFFSETTO:-0500
TZNAME:EST
DTSTART:20251102T060000
END:STANDARD
END:VTIMEZONE
BEGIN:VEVENT
DTSTART;TZID=America/New_York:20240223T090000
DTEND;TZID=America/New_York:20240223T200000
DTSTAMP:20260419T121718
CREATED:20240128T150920Z
LAST-MODIFIED:20240128T150920Z
UID:10000190-1708678800-1708718400@6-bricks-staging.rankreallyhigh.dev
SUMMARY:DELI-STYLE FRIDAY FROM 9AM-8PM
DESCRIPTION:Deli-style is available every Friday from 9am – 8pm at our Springfield weed dispensary. Select strains will be available for you to choose from. Your budtender will weigh the amount of buds you would like right before you! Deli-style ends at 8pm or while supplies last. This offer is only available in-store and on select days\, don’t miss out! \nBe sure to subscribe to our weed events calendar and follow us for more cannabis events in Springfield!
URL:https://6-bricks-staging.rankreallyhigh.dev/event/deli-style-friday-from-9am-8pm-11/
LOCATION:6 Brick’s Dispensary\, 1860 Main St\, Springfield\, MA\, 01103\, United States
ATTACH;FMTTYPE=image/jpeg:https://6-bricks-staging.rankreallyhigh.dev/wp-content/uploads/2023/03/budding-jE-2EFjYaZg-unsplash-scaled.jpg
END:VEVENT
BEGIN:VEVENT
DTSTART;TZID=America/New_York:20240223T120000
DTEND;TZID=America/New_York:20240223T140000
DTSTAMP:20260419T121718
CREATED:20240128T152740Z
LAST-MODIFIED:20240128T164934Z
UID:10000196-1708689600-1708696800@6-bricks-staging.rankreallyhigh.dev
SUMMARY:Freshly Baked Pop-up *Black-owned Brand*
DESCRIPTION:Come join us for a Freshly Baked Pop-up on February 23rd from 12:00pm-2:00pm at 6 Brick’s Dispensary 1860 Main St\, Springfield\, MA. \n  \nAbout Freshly Baked: Freshly Baked Company was founded in 2018 by disabled veterans Philip Smith and Jenny Roseman who found cannabis to be an effective way of managing PTSD associated with their service to our country. Philip is an Iraq combat Marine and Jenny was a 9/11 first responder at the Pentagon while in the Air Force. Motivated by their experience with cannabis\, they aspired to start a company that could help others who suffer from PTSD.
URL:https://6-bricks-staging.rankreallyhigh.dev/event/freshly-baked-pop-up-3/
LOCATION:6 Brick’s Dispensary\, 1860 Main St\, Springfield\, MA\, 01103\, United States
ATTACH;FMTTYPE=image/jpeg:https://6-bricks-staging.rankreallyhigh.dev/wp-content/uploads/2023/02/1UbMIr_1_400x400.jpg
END:VEVENT
END:VCALENDAR