BEGIN:VCALENDAR
VERSION:2.0
PRODID:-//6 Brick&#039;s - ECPv6.15.18//NONSGML v1.0//EN
CALSCALE:GREGORIAN
METHOD:PUBLISH
X-WR-CALNAME:6 Brick&#039;s
X-ORIGINAL-URL:https://6-bricks-staging.rankreallyhigh.dev
X-WR-CALDESC:Events for 6 Brick&#039;s
REFRESH-INTERVAL;VALUE=DURATION:PT1H
X-Robots-Tag:noindex
X-PUBLISHED-TTL:PT1H
BEGIN:VTIMEZONE
TZID:America/New_York
BEGIN:DAYLIGHT
TZOFFSETFROM:-0500
TZOFFSETTO:-0400
TZNAME:EDT
DTSTART:20210314T070000
END:DAYLIGHT
BEGIN:STANDARD
TZOFFSETFROM:-0400
TZOFFSETTO:-0500
TZNAME:EST
DTSTART:20211107T060000
END:STANDARD
BEGIN:DAYLIGHT
TZOFFSETFROM:-0500
TZOFFSETTO:-0400
TZNAME:EDT
DTSTART:20220313T070000
END:DAYLIGHT
BEGIN:STANDARD
TZOFFSETFROM:-0400
TZOFFSETTO:-0500
TZNAME:EST
DTSTART:20221106T060000
END:STANDARD
BEGIN:DAYLIGHT
TZOFFSETFROM:-0500
TZOFFSETTO:-0400
TZNAME:EDT
DTSTART:20230312T070000
END:DAYLIGHT
BEGIN:STANDARD
TZOFFSETFROM:-0400
TZOFFSETTO:-0500
TZNAME:EST
DTSTART:20231105T060000
END:STANDARD
BEGIN:DAYLIGHT
TZOFFSETFROM:-0500
TZOFFSETTO:-0400
TZNAME:EDT
DTSTART:20240310T070000
END:DAYLIGHT
BEGIN:STANDARD
TZOFFSETFROM:-0400
TZOFFSETTO:-0500
TZNAME:EST
DTSTART:20241103T060000
END:STANDARD
END:VTIMEZONE
BEGIN:VEVENT
DTSTART;TZID=America/New_York:20230203T160000
DTEND;TZID=America/New_York:20230203T190000
DTSTAMP:20260419T174305
CREATED:20230129T191126Z
LAST-MODIFIED:20230129T191126Z
UID:10000017-1675440000-1675450800@6-bricks-staging.rankreallyhigh.dev
SUMMARY:Howl's Tincture Pop-Up
DESCRIPTION:Howl’s Tincture is doing a Pop-up on Feb. 3rd (4pm-7Pm) at 6Brick’s Dispensary 1860 Main St\, Springfield\, MA. \n  \nHowl’s makes simple\, consistent\, and pure cannabis medicine. Since 2012. Howl’s mission is to make this valuable plant medicine available to everyone who can benefit from it. \n  \nFEATURING THEIR NEW: Magic Tincture!!! \n  \n \n  \nMagic is a powerful\, complete spectrum tincture made with live kief infusion by Howls\, the beloved company founded by a patient serving patients in 2012\, and serving the Adult Use community since 2018.  \n  \nWith 250 mg THC in a ⅓ oz (10ml) bottle\, plus a diverse set of cannabinoids\, terpenes and beyond\, Magic offers people experienced with cannabis or with a high tolerance the option of taking a few drops as a micro dose (0.1 ml / 2.5mg THC) or a full dropper (1 ml / 25 mg THC) to go on a hero’s journey. \n  \nMade with organic avocado oil\, organic sunflower lecithin\, and live kief gently shaken from the plant moments after harvest\, the Magic Tincture is simple\, strong\, and pure.  \n  \nMagic was inspired by the first employee at Howls\, an herbalist and musician\, who required a high potency tincture to cast her spell.
URL:https://6-bricks-staging.rankreallyhigh.dev/event/howls-tincture-pop-up/
LOCATION:6 Brick’s Dispensary\, 1860 Main St\, Springfield\, MA\, 01103\, United States
ATTACH;FMTTYPE=image/png:https://6-bricks-staging.rankreallyhigh.dev/wp-content/uploads/2023/01/Untitled-design-e1675019396947.png
END:VEVENT
BEGIN:VEVENT
DTSTART;TZID=America/New_York:20230121T140000
DTEND;TZID=America/New_York:20230121T170000
DTSTAMP:20260419T174305
CREATED:20230110T170551Z
LAST-MODIFIED:20230110T170551Z
UID:10000016-1674309600-1674320400@6-bricks-staging.rankreallyhigh.dev
SUMMARY:The Heirloom Collective Pop-up
DESCRIPTION:6Brick’s Dispensary 1860 Main St\, Springfield\, MA. Here at The Heirloom Collective we are passionate about being part of the inclusive Massachusetts cannabis community\, and we are excited for you to join us on our mission.
URL:https://6-bricks-staging.rankreallyhigh.dev/event/the-heirloom-collective-pop-up/
LOCATION:MA
ATTACH;FMTTYPE=image/png:https://6-bricks-staging.rankreallyhigh.dev/wp-content/uploads/2023/01/THC-logo.png
END:VEVENT
BEGIN:VEVENT
DTSTART;TZID=America/New_York:20230113T150000
DTEND;TZID=America/New_York:20230113T170000
DTSTAMP:20260419T174305
CREATED:20230106T155307Z
LAST-MODIFIED:20230106T155707Z
UID:10000011-1673622000-1673629200@6-bricks-staging.rankreallyhigh.dev
SUMMARY:Northeast Alternatives pop-up
DESCRIPTION:6Brick’s Dispensary 1860 Main St\, Springfield\, MA \nAt Northeast Alternatives\, we truly believe in the life-changing benefits of cannabis and are committed to producing high-quality\, 100% compliant products that meet and exceed the expectations of our patients and customers each and every time. We offer a wide variety of products including flower\, edibles\, concentrates\, and topicals and are happy to help you find products that best meet your needs. Our core values are quality\, commitment\, innovation\, integrity\, and community engagement. All of which stem from our leadership team’s own experience of empowering family members to take charge of their health by using medical marijuana.
URL:https://6-bricks-staging.rankreallyhigh.dev/event/northeast-alternatives-pop-up/
LOCATION:MA
ATTACH;FMTTYPE=image/jpeg:https://6-bricks-staging.rankreallyhigh.dev/wp-content/uploads/2023/01/northeast-alternatives.jpeg
END:VEVENT
BEGIN:VEVENT
DTSTART;TZID=America/New_York:20230106T140000
DTEND;TZID=America/New_York:20230106T160000
DTSTAMP:20260419T174305
CREATED:20221216T180901Z
LAST-MODIFIED:20221216T181931Z
UID:10000009-1673013600-1673020800@6-bricks-staging.rankreallyhigh.dev
SUMMARY:Fathom Pop-Up
DESCRIPTION:
URL:https://6-bricks-staging.rankreallyhigh.dev/event/fathom-pop-up/
LOCATION:6 Brick’s Dispensary\, 1860 Main St\, Springfield\, MA\, 01103\, United States
ATTACH;FMTTYPE=image/png:https://6-bricks-staging.rankreallyhigh.dev/wp-content/uploads/2022/12/Fathom-logo.png
END:VEVENT
BEGIN:VEVENT
DTSTART;TZID=America/New_York:20221229T120000
DTEND;TZID=America/New_York:20221229T140000
DTSTAMP:20260419T174305
CREATED:20221216T180823Z
LAST-MODIFIED:20221216T182105Z
UID:10000008-1672315200-1672322400@6-bricks-staging.rankreallyhigh.dev
SUMMARY:Commonwealth Alternative Care Pop-Up
DESCRIPTION:
URL:https://6-bricks-staging.rankreallyhigh.dev/event/commonwealth-alternative-care-pop-up/
LOCATION:6 Brick’s Dispensary\, 1860 Main St\, Springfield\, MA\, 01103\, United States
ATTACH;FMTTYPE=image/png:https://6-bricks-staging.rankreallyhigh.dev/wp-content/uploads/2022/12/Commonwealth-Alternative-Care.png
END:VEVENT
BEGIN:VEVENT
DTSTART;TZID=America/New_York:20221221T190000
DTEND;TZID=America/New_York:20221221T220000
DTSTAMP:20260419T174305
CREATED:20221208T215303Z
LAST-MODIFIED:20221208T215602Z
UID:10000001-1671649200-1671660000@6-bricks-staging.rankreallyhigh.dev
SUMMARY:Ugly Sweater Christmas Party
DESCRIPTION:Brought To You By: \n6BRICK’S – LOCAL ROOTS – RATION CANNABIS\n  \nDATE/TIME: December 21st from 7-10PM \n  \nLOCATION: White Lion Brewery in Springfield\, MA – 1500 Main St\, Springfield\, MA 01103 \n  \nRSVP at: https://2022uglysweater.eventbrite.com or scan the QR code on the image above \n  \nTHIS IS A 21+ EVENT
URL:https://6-bricks-staging.rankreallyhigh.dev/event/ugly-sweater-christmas-party/
LOCATION:White Lion Brewery\, 1500 Main Street\, Springfield\, Massachusetts\, 01103\, United States
ATTACH;FMTTYPE=image/webp:https://6-bricks-staging.rankreallyhigh.dev/wp-content/uploads/2022/12/6B-Events-USCP.webp
END:VEVENT
BEGIN:VEVENT
DTSTART;TZID=America/New_York:20221221T160000
DTEND;TZID=America/New_York:20221221T190000
DTSTAMP:20260419T174305
CREATED:20221216T180645Z
LAST-MODIFIED:20221216T182328Z
UID:10000006-1671638400-1671649200@6-bricks-staging.rankreallyhigh.dev
SUMMARY:Azalla Education
DESCRIPTION:
URL:https://6-bricks-staging.rankreallyhigh.dev/event/azalla-education/
LOCATION:6 Brick’s Dispensary\, 1860 Main St\, Springfield\, MA\, 01103\, United States
ATTACH;FMTTYPE=image/png:https://6-bricks-staging.rankreallyhigh.dev/wp-content/uploads/2022/12/Azalla_Education_green-01-1024x849-1.png
END:VEVENT
BEGIN:VEVENT
DTSTART;TZID=America/New_York:20221217T150000
DTEND;TZID=America/New_York:20221217T180000
DTSTAMP:20260419T174305
CREATED:20221213T221632Z
LAST-MODIFIED:20221213T221632Z
UID:10000004-1671289200-1671300000@6-bricks-staging.rankreallyhigh.dev
SUMMARY:Root & Bloom Pop-Up
DESCRIPTION:Brought To You By: \n6BRICK’S – ROOT & BLOOM\n  \nDATE/TIME: Saturday\, December 17th from 3-6PM \n  \nLOCATION: 6Brick’s in Springfield\, MA – 1860 Main St Springfield\, MA 01103 \n  \nTHIS IS A 21+ EVENT
URL:https://6-bricks-staging.rankreallyhigh.dev/event/root-bloom-pop-up/
LOCATION:6 Brick’s Dispensary\, 1860 Main St\, Springfield\, MA\, 01103\, United States
ATTACH;FMTTYPE=image/jpeg:https://6-bricks-staging.rankreallyhigh.dev/wp-content/uploads/2022/12/root-bloom-craft-cannabis-featured-image.jpg
END:VEVENT
BEGIN:VEVENT
DTSTART;TZID=America/New_York:20221216T150000
DTEND;TZID=America/New_York:20221216T180000
DTSTAMP:20260419T174305
CREATED:20221213T222132Z
LAST-MODIFIED:20221213T222159Z
UID:10000005-1671202800-1671213600@6-bricks-staging.rankreallyhigh.dev
SUMMARY:Major Bloom Pop-Up
DESCRIPTION:Brought To You By: \n6BRICK’S – MAJOR BLOOM\n  \nDATE/TIME: Friday\, December 16th from 3-6PM \n  \nLOCATION: 6Brick’s in Springfield\, MA – 1860 Main St Springfield\, MA 01103 \n  \nTHIS IS A 21+ EVENT
URL:https://6-bricks-staging.rankreallyhigh.dev/event/major-bloom-pop-up/
LOCATION:6 Brick’s Dispensary\, 1860 Main St\, Springfield\, MA\, 01103\, United States
ATTACH;FMTTYPE=image/webp:https://6-bricks-staging.rankreallyhigh.dev/wp-content/uploads/2022/12/event-major-bloom.webp
END:VEVENT
END:VCALENDAR