BEGIN:VCALENDAR
VERSION:2.0
PRODID:-//6 Brick&#039;s - ECPv6.15.18//NONSGML v1.0//EN
CALSCALE:GREGORIAN
METHOD:PUBLISH
X-WR-CALNAME:6 Brick&#039;s
X-ORIGINAL-URL:https://6-bricks-staging.rankreallyhigh.dev
X-WR-CALDESC:Events for 6 Brick&#039;s
REFRESH-INTERVAL;VALUE=DURATION:PT1H
X-Robots-Tag:noindex
X-PUBLISHED-TTL:PT1H
BEGIN:VTIMEZONE
TZID:America/New_York
BEGIN:DAYLIGHT
TZOFFSETFROM:-0500
TZOFFSETTO:-0400
TZNAME:EDT
DTSTART:20220313T070000
END:DAYLIGHT
BEGIN:STANDARD
TZOFFSETFROM:-0400
TZOFFSETTO:-0500
TZNAME:EST
DTSTART:20221106T060000
END:STANDARD
BEGIN:DAYLIGHT
TZOFFSETFROM:-0500
TZOFFSETTO:-0400
TZNAME:EDT
DTSTART:20230312T070000
END:DAYLIGHT
BEGIN:STANDARD
TZOFFSETFROM:-0400
TZOFFSETTO:-0500
TZNAME:EST
DTSTART:20231105T060000
END:STANDARD
BEGIN:DAYLIGHT
TZOFFSETFROM:-0500
TZOFFSETTO:-0400
TZNAME:EDT
DTSTART:20240310T070000
END:DAYLIGHT
BEGIN:STANDARD
TZOFFSETFROM:-0400
TZOFFSETTO:-0500
TZNAME:EST
DTSTART:20241103T060000
END:STANDARD
END:VTIMEZONE
BEGIN:VEVENT
DTSTART;TZID=America/New_York:20230302T150000
DTEND;TZID=America/New_York:20230302T180000
DTSTAMP:20260422T220008
CREATED:20230219T212843Z
LAST-MODIFIED:20230219T212843Z
UID:10000023-1677769200-1677780000@6-bricks-staging.rankreallyhigh.dev
SUMMARY:Fathom Cannabis Pop-up
DESCRIPTION:Come join us for a Fathom Cannabis Pop-up on March 2nd (3:00PM-6:00PM) at 6Brick’s Dispensary 1860 Main St\, Springfield\, MA. \n\n\nOur flowers are deep.\n\n\n\n\nSun grown craft cannabis carefully selected for its complexity. \nRicher flavors and a spectrum of effects. \n\n\nPure Essence\n\n\n\n\nHandmade concentrates using a mix of traditional techniques\, modern technology and no solvents.
URL:https://6-bricks-staging.rankreallyhigh.dev/event/fathom-cannabis-pop-up/
LOCATION:6 Brick’s Dispensary\, 1860 Main St\, Springfield\, MA\, 01103\, United States
ATTACH;FMTTYPE=image/png:https://6-bricks-staging.rankreallyhigh.dev/wp-content/uploads/2023/02/LOGOFATHOM_LOGOFATHOM-1.png
END:VEVENT
BEGIN:VEVENT
DTSTART;TZID=America/New_York:20230311T150000
DTEND;TZID=America/New_York:20230311T180000
DTSTAMP:20260422T220008
CREATED:20230227T001922Z
LAST-MODIFIED:20230227T001922Z
UID:10000024-1678546800-1678557600@6-bricks-staging.rankreallyhigh.dev
SUMMARY:The Heirloom Collective Pop-up
DESCRIPTION:Come join us for a The Heirloom Collective Pop-up on March 11th (3:00PM-6:00PM) at 6Brick’s Dispensary 1860 Main St\, Springfield\, MA. \n  \n\n\nABOUT THE HEIRLOOM COLLECTIVE: OUR MISSION\n\n\n\n\nThe Heirloom Collective strives to provide its customers with quality products at a competitive price. Let our courteous and knowledgable staff help you find the cannabis products to suit your needs. Browse our online menu and place an order for pick up at our dispensary. \n  \nEducation and customer choice are what makes The Heirloom Collective stand apart from other Massachusetts dispensaries. We provide everything you need in order to make the proper choice of cannabis specifically for your needs. Here at The Heirloom Collective we are passionate about being part of the inclusive Massachusetts cannabis community\, and we are excited for you to join us on our mission.
URL:https://6-bricks-staging.rankreallyhigh.dev/event/the-heirloom-collective-pop-up-2/
LOCATION:6 Brick’s Dispensary\, 1860 Main St\, Springfield\, MA\, 01103\, United States
ATTACH;FMTTYPE=image/jpeg:https://6-bricks-staging.rankreallyhigh.dev/wp-content/uploads/2023/02/the-heirloom-collective-logo-1024x421-1-e1677457135971.jpg
END:VEVENT
BEGIN:VEVENT
DTSTART;TZID=America/New_York:20230315T160000
DTEND;TZID=America/New_York:20230315T190000
DTSTAMP:20260422T220008
CREATED:20230227T002618Z
LAST-MODIFIED:20230227T002618Z
UID:10000025-1678896000-1678906800@6-bricks-staging.rankreallyhigh.dev
SUMMARY:Wellness Wednesday w/ Azalla Education
DESCRIPTION:Come join us for Wellness Wednesday on March. 15th from 4PM-7PM with Azalla Education at 6Brick’s Dispensary 1860 Main St\, Springfield\, MA. \n  \nAzalla Education is a women-owned company\, founded by cannabis health professionals\, offering science-driven education to meet the professional development and training needs of the cannabis industry. Use the QR code to schedule your consultation with health professionals! \n\n\n\nWHAT SETS US APART?\n\n\n\n\n\nIn addition to hard science and compliance training\, our engaging learning programs always include practices designed to support wellness such as guided meditations and yoga\, mindful stress-reduction strategies and knowledge integration activities. \n\n\n\n\n\n\n\n\n\n\nWomen-owned & operated \n\n\n\n\nPracticing cannabis health professionals with a combined 20 years of cannabis industry experience \n\n\n\n\nCertifying providers in MA & NY who have written medical cannabis recommendations for over 10\,000 patients \n\n\n\n\nSubject matter experts on the Endocannabinoid System and Cannabis Therapeutics \n\n\n\n\nEngaging learning sessions include mindfulness & wellness activities
URL:https://6-bricks-staging.rankreallyhigh.dev/event/wellness-wednesday-w-azalla-education/
LOCATION:6 Brick’s Dispensary\, 1860 Main St\, Springfield\, MA\, 01103\, United States
ATTACH;FMTTYPE=image/png:https://6-bricks-staging.rankreallyhigh.dev/wp-content/uploads/2023/01/Azalla-Edu-01.25-w.-QR-code-1.png
END:VEVENT
BEGIN:VEVENT
DTSTART;TZID=America/New_York:20230317T143000
DTEND;TZID=America/New_York:20230317T170000
DTSTAMP:20260422T220008
CREATED:20230227T004038Z
LAST-MODIFIED:20230227T004038Z
UID:10000026-1679063400-1679072400@6-bricks-staging.rankreallyhigh.dev
SUMMARY:Freshly Baked Pop-up
DESCRIPTION:Come join us for a Freshly Baked Pop-up on March 17th (2:30PM-5:00PM) at 6Brick’s Dispensary 1860 Main St\, Springfield\, MA. \n  \nFreshly Baked Company  was founded in 2018 by disabled veterans Philip Smith and Jenny Roseman who found cannabis to be an effective way of managing PTSD associated with their service to our country. \nPhilip is an Iraq combat Marine and Jenny was a 9/11 first responder at the Pentagon while in the Air Force. Motivated by their experience with cannabis\, they aspired to start a company that could help others who suffer from PTSD.
URL:https://6-bricks-staging.rankreallyhigh.dev/event/freshly-baked-pop-up/
LOCATION:6 Brick’s Dispensary\, 1860 Main St\, Springfield\, MA\, 01103\, United States
ATTACH;FMTTYPE=image/jpeg:https://6-bricks-staging.rankreallyhigh.dev/wp-content/uploads/2023/02/1UbMIr_1_400x400.jpg
END:VEVENT
BEGIN:VEVENT
DTSTART;TZID=America/New_York:20230323T090000
DTEND;TZID=America/New_York:20230323T090000
DTSTAMP:20260422T220008
CREATED:20230319T181841Z
LAST-MODIFIED:20230323T190834Z
UID:10000027-1679562000-1679562000@6-bricks-staging.rankreallyhigh.dev
SUMMARY:March Madness Sweet 16 Tip-off
DESCRIPTION:Stop in THIS Thursday for select pre-roll bundles! Each bundle is competing for the March Madness title. Whichever bundle has the most sales will move on to the next round and eventually crown a winner at the end of the month.🏀🧱 \nCheck out our 2023 March Madness pre-roll bracket \n 
URL:https://6-bricks-staging.rankreallyhigh.dev/event/march-madness-sweet-16-tip-off/
LOCATION:MA
ATTACH;FMTTYPE=image/jpeg:https://6-bricks-staging.rankreallyhigh.dev/wp-content/uploads/2023/03/March-Madness-Bracket.jpg
END:VEVENT
BEGIN:VEVENT
DTSTART;TZID=America/New_York:20230331T140000
DTEND;TZID=America/New_York:20230331T170000
DTSTAMP:20260422T220008
CREATED:20230129T201612Z
LAST-MODIFIED:20230507T140048Z
UID:10000020-1680271200-1680282000@6-bricks-staging.rankreallyhigh.dev
SUMMARY:Local Roots Pop-up
DESCRIPTION:Come join us for a Local Roots Pop-up on May 20th (12PM-3PM) at 6Brick’s Dispensary 1860 Main St\, Springfield\, MA. \n\nOur Local Roots\n\n\nWe are a locally grown\, Massachusetts based cannabis company created by cannabis advocates and experienced\, craft cannabis professionals. At Local Roots\, we strive to provide top quality cannabis products using sustainable\, earth-friendly methods with your happiness and wellness in mind. \nProviding quality assurance is made easy in our vertically integrated company because we grow and create many of our own products at our diverse grow and production facilities. Only cannabis that meets our high standards of safety\, efficacy\, and potency will reach dispensary shelves. \nAt Local Roots\, we have a passionate and knowledgeable team who will help you along your cannabis exploration. We will provide thought and care in helping guide our guests in crafting the products that are right for you.
URL:https://6-bricks-staging.rankreallyhigh.dev/event/local-roots-pop-up-2/
LOCATION:6 Brick’s Dispensary\, 1860 Main St\, Springfield\, MA\, 01103\, United States
ATTACH;FMTTYPE=image/png:https://6-bricks-staging.rankreallyhigh.dev/wp-content/uploads/2023/01/LocalRootsCannabisCraftedHorizontalLogo-640w-e1675023212853.png
END:VEVENT
END:VCALENDAR