BEGIN:VCALENDAR
VERSION:2.0
PRODID:-//6 Brick&#039;s - ECPv6.15.18//NONSGML v1.0//EN
CALSCALE:GREGORIAN
METHOD:PUBLISH
X-WR-CALNAME:6 Brick&#039;s
X-ORIGINAL-URL:https://6-bricks-staging.rankreallyhigh.dev
X-WR-CALDESC:Events for 6 Brick&#039;s
REFRESH-INTERVAL;VALUE=DURATION:PT1H
X-Robots-Tag:noindex
X-PUBLISHED-TTL:PT1H
BEGIN:VTIMEZONE
TZID:America/New_York
BEGIN:DAYLIGHT
TZOFFSETFROM:-0500
TZOFFSETTO:-0400
TZNAME:EDT
DTSTART:20220313T070000
END:DAYLIGHT
BEGIN:STANDARD
TZOFFSETFROM:-0400
TZOFFSETTO:-0500
TZNAME:EST
DTSTART:20221106T060000
END:STANDARD
BEGIN:DAYLIGHT
TZOFFSETFROM:-0500
TZOFFSETTO:-0400
TZNAME:EDT
DTSTART:20230312T070000
END:DAYLIGHT
BEGIN:STANDARD
TZOFFSETFROM:-0400
TZOFFSETTO:-0500
TZNAME:EST
DTSTART:20231105T060000
END:STANDARD
BEGIN:DAYLIGHT
TZOFFSETFROM:-0500
TZOFFSETTO:-0400
TZNAME:EDT
DTSTART:20240310T070000
END:DAYLIGHT
BEGIN:STANDARD
TZOFFSETFROM:-0400
TZOFFSETTO:-0500
TZNAME:EST
DTSTART:20241103T060000
END:STANDARD
END:VTIMEZONE
BEGIN:VEVENT
DTSTART;TZID=America/New_York:20230901T090000
DTEND;TZID=America/New_York:20230929T200000
DTSTAMP:20260419T231632
CREATED:20230901T024015Z
LAST-MODIFIED:20230901T024015Z
UID:10000090-1693558800-1696017600@6-bricks-staging.rankreallyhigh.dev
SUMMARY:Fall Flower Festival
DESCRIPTION:The Fall Flower Festival will feature a dedicated brand each week! You can come check out featured strains and also meet their team for a pop-up. This will be hosted EVERY FRIDAY in September from 9am – 8pm or while supplies last!
URL:https://6-bricks-staging.rankreallyhigh.dev/event/fall-flower-festival/
LOCATION:6 Brick’s Dispensary\, 1860 Main St\, Springfield\, MA\, 01103\, United States
ATTACH;FMTTYPE=image/jpeg:https://6-bricks-staging.rankreallyhigh.dev/wp-content/uploads/2023/08/Horizontal-TV-Screen-100.jpg
END:VEVENT
BEGIN:VEVENT
DTSTART;TZID=America/New_York:20230901T160000
DTEND;TZID=America/New_York:20230901T180000
DTSTAMP:20260419T231632
CREATED:20230901T134846Z
LAST-MODIFIED:20230901T134846Z
UID:10000096-1693584000-1693591200@6-bricks-staging.rankreallyhigh.dev
SUMMARY:Fall Flower Festival with ARUNA
DESCRIPTION:Welcome to Fall Flower Festival – every Friday during September from 9am – 8pm or while supplies. Our vendor this week is ARUNA with a pop-up from 4-6pm. Come check out their featured strains and also meet their team.
URL:https://6-bricks-staging.rankreallyhigh.dev/event/fall-flower-festival-with-aruna/
LOCATION:6 Brick’s Dispensary\, 1860 Main St\, Springfield\, MA\, 01103\, United States
ATTACH;FMTTYPE=image/jpeg:https://6-bricks-staging.rankreallyhigh.dev/wp-content/uploads/2023/09/Horizontal-TV-Screen_1-100-2.jpg
END:VEVENT
BEGIN:VEVENT
DTSTART;TZID=America/New_York:20230904T090000
DTEND;TZID=America/New_York:20230904T210000
DTSTAMP:20260419T231632
CREATED:20230901T024357Z
LAST-MODIFIED:20230901T024357Z
UID:10000091-1693818000-1693861200@6-bricks-staging.rankreallyhigh.dev
SUMMARY:LABOR DAY - NORMAL HOURS 9AM-9PM
DESCRIPTION:We will be open on Labor Day with normal store hours of 9am-9pm!
URL:https://6-bricks-staging.rankreallyhigh.dev/event/labor-day-normal-hours-9am-9pm/
LOCATION:6 Brick’s Dispensary\, 1860 Main St\, Springfield\, MA\, 01103\, United States
ATTACH;FMTTYPE=image/png:https://6-bricks-staging.rankreallyhigh.dev/wp-content/uploads/2023/08/TV-H-Labor-Day-Hours-1.png
END:VEVENT
BEGIN:VEVENT
DTSTART;TZID=America/New_York:20230907T163000
DTEND;TZID=America/New_York:20230907T183000
DTSTAMP:20260419T231632
CREATED:20230901T024614Z
LAST-MODIFIED:20230901T024614Z
UID:10000092-1694104200-1694111400@6-bricks-staging.rankreallyhigh.dev
SUMMARY:Ahh Chocolate Pop-up
DESCRIPTION:Come join us for an Ahh Chocolate pop-up on September 7th from 4:30-6:30pm at 6Brick’s Dispensary 1860 Main St\, Springfield\, MA. \nABOUT AHH CHOCOLATE:We started with the spirit of creativity and soulful intentions. Making sure we deliver the highest quality products of responsibly sourced goodness. Hand-crafting cannabis confections to guide our community into a deeper experience of flavor\, connection to ingredients\, plant medicine and self-care. Award winning chocolate from small batch makers is at the heart of what we do. Our herbalist inspired recipes bring an added dimension of health conscious\, healing ingredients into a full cannabinoid\, full spectrum experience\, every time.
URL:https://6-bricks-staging.rankreallyhigh.dev/event/ahh-chocolate-pop-up-3/
LOCATION:6 Brick’s Dispensary\, 1860 Main St\, Springfield\, MA\, 01103\, United States
ATTACH;FMTTYPE=image/png:https://6-bricks-staging.rankreallyhigh.dev/wp-content/uploads/2023/05/Ahh-Chocolate-logo-200x200px.png
END:VEVENT
BEGIN:VEVENT
DTSTART;TZID=America/New_York:20230908T120000
DTEND;TZID=America/New_York:20230908T150000
DTSTAMP:20260419T231632
CREATED:20230901T135128Z
LAST-MODIFIED:20230901T135333Z
UID:10000097-1694174400-1694185200@6-bricks-staging.rankreallyhigh.dev
SUMMARY:Fall Flower Festival with GARDEN REMEDIES
DESCRIPTION:Welcome to Fall Flower Festival – every Friday during September from 9am – 8pm or while supplies. Our vendor this week is GARDEN REMEDIES with a pop-up from 12-3pm. Come check out their featured strains and also meet their team.
URL:https://6-bricks-staging.rankreallyhigh.dev/event/fall-flower-festival-with-garden-remedies/
LOCATION:6 Brick’s Dispensary\, 1860 Main St\, Springfield\, MA\, 01103\, United States
ATTACH;FMTTYPE=image/jpeg:https://6-bricks-staging.rankreallyhigh.dev/wp-content/uploads/2023/09/Horizontal-TV-Screen_1-100-3.jpg
END:VEVENT
BEGIN:VEVENT
DTSTART;TZID=America/New_York:20230909T113000
DTEND;TZID=America/New_York:20230909T133000
DTSTAMP:20260419T231632
CREATED:20230901T140839Z
LAST-MODIFIED:20230901T141009Z
UID:10000100-1694259000-1694266200@6-bricks-staging.rankreallyhigh.dev
SUMMARY:Solar Cannabis Co. Pop-up
DESCRIPTION:Come join us for on September 9th from 11:30am – 1:30pm for a pop-up with our friends from Solar Cannabis Co. at 6Brick’s Dispensary 1860 Main St\, Springfield\, MA. \nABOUT SOLAR CANNABIS CO: Here at Solar Therapeutics we take pride in being able to assist our patients and consumers in finding the right products for their needs. Our team of budtenders are trained to help educate and guide you through the process and are available if you have any questions.
URL:https://6-bricks-staging.rankreallyhigh.dev/event/solar-cannabis-co-pop-up/
LOCATION:6 Brick’s Dispensary\, 1860 Main St\, Springfield\, MA\, 01103\, United States
ATTACH;FMTTYPE=image/png:https://6-bricks-staging.rankreallyhigh.dev/wp-content/uploads/2023/09/solar-logo.png
END:VEVENT
BEGIN:VEVENT
DTSTART;TZID=America/New_York:20230913T130000
DTEND;TZID=America/New_York:20230913T150000
DTSTAMP:20260419T231632
CREATED:20230904T190311Z
LAST-MODIFIED:20230904T190336Z
UID:10000101-1694610000-1694617200@6-bricks-staging.rankreallyhigh.dev
SUMMARY:WANA Pop-up
DESCRIPTION:Come join us for a Wana Pop-up on September 13th from 1-3pm at 6Brick’s Dispensary 1860 Main St\, Springfield\, MA. \nABOUT Wana: We’ve never been satisfied with “good enough\,” not even when we were just a scrappy Boulder-based start-up trying to make our way in a newly legalized industry. When many companies cut corners\, using inferior ingredients like animal-derived gelatin and artificial sweeteners\, we crafted a vegan\, terpene-enhanced\, melt-proof recipe that virtually any adult could enjoy. While our competitors waited for state regulations to require testing\, we tested our products for potency and consistency from the start. And now\, more than a decade later\, customers all over the U.S. and Canada trust us to deliver a premium cannabis experience\, every time they reach for a Wana product.
URL:https://6-bricks-staging.rankreallyhigh.dev/event/wana-pop-up-2/
LOCATION:6 Brick’s Dispensary\, 1860 Main St\, Springfield\, MA\, 01103\, United States
ATTACH;FMTTYPE=image/jpeg:https://6-bricks-staging.rankreallyhigh.dev/wp-content/uploads/2023/08/wana-logo.jpg
END:VEVENT
BEGIN:VEVENT
DTSTART;TZID=America/New_York:20230915T150000
DTEND;TZID=America/New_York:20230915T190000
DTSTAMP:20260419T231632
CREATED:20230901T135649Z
LAST-MODIFIED:20230912T163911Z
UID:10000098-1694790000-1694804400@6-bricks-staging.rankreallyhigh.dev
SUMMARY:Fall Flower Festival with STRANE
DESCRIPTION:Welcome to Fall Flower Festival – every Friday during September from 9am – 8pm or while supplies. Our vendor this week is STRANE with the Bertha Bus. Come check out their featured strains and also meet their team.
URL:https://6-bricks-staging.rankreallyhigh.dev/event/fall-flower-festival-with-strane/
LOCATION:6 Brick’s Dispensary\, 1860 Main St\, Springfield\, MA\, 01103\, United States
ATTACH;FMTTYPE=image/jpeg:https://6-bricks-staging.rankreallyhigh.dev/wp-content/uploads/2023/09/Horizontal-TV-Screen_1-100-5.jpg
END:VEVENT
BEGIN:VEVENT
DTSTART;TZID=America/New_York:20230916T130000
DTEND;TZID=America/New_York:20230916T160000
DTSTAMP:20260419T231632
CREATED:20230901T025940Z
LAST-MODIFIED:20230901T025949Z
UID:10000095-1694869200-1694880000@6-bricks-staging.rankreallyhigh.dev
SUMMARY:Northeast Alternatives Pop-up
DESCRIPTION:Come join us for a NEA Pop-up on September 16th from 1-4pm at 6Brick’s Dispensary 1860 Main St\, Springfield\, MA. \nABOUT NEA: At Northeast Alternatives\, we truly believe in the life-changing benefits of cannabis and are committed to producing high-quality\, 100% compliant products that meet and exceed the expectations of our patients and customers each and every time. We offer a wide variety of products including flower\, edibles\, concentrates\, and topicals and are happy to help you find products that best meet your needs. Our core values are quality\, commitment\, innovation\, integrity\, and community engagement. All of which stem from our leadership team’s own experience of empowering family members to take charge of their health by using medical marijuana.
URL:https://6-bricks-staging.rankreallyhigh.dev/event/northeast-alternatives-pop-up-2/
LOCATION:6 Brick’s Dispensary\, 1860 Main St\, Springfield\, MA\, 01103\, United States
ATTACH;FMTTYPE=image/jpeg:https://6-bricks-staging.rankreallyhigh.dev/wp-content/uploads/2023/01/northeast-alternatives.jpeg
END:VEVENT
BEGIN:VEVENT
DTSTART;TZID=America/New_York:20230921T150000
DTEND;TZID=America/New_York:20230921T170000
DTSTAMP:20260419T231632
CREATED:20230901T025001Z
LAST-MODIFIED:20230901T025001Z
UID:10000093-1695308400-1695315600@6-bricks-staging.rankreallyhigh.dev
SUMMARY:Green Meadows Pop-up
DESCRIPTION:Come join us for on September 21st from 3pm-5pm for a pop-up with our friends from Green Meadows at 6Brick’s Dispensary 1860 Main St\, Springfield\, MA. \nABOUT GREEN MEADOWS: Green Meadows is a family-owned company whose founders hail from generations of military renown. The Patton family has now applied a legacy of integrity\, quality\, and responsibility to the production and sale of premium cannabis. But that’s only part of our mission. Green Meadows is a place where consumers feel welcome\, where our team is proud to work\, and where our community can trust that our impact will be positive\, supportive\, and enduring.
URL:https://6-bricks-staging.rankreallyhigh.dev/event/green-meadows-pop-up-3/
LOCATION:6 Brick’s Dispensary\, 1860 Main St\, Springfield\, MA\, 01103\, United States
ATTACH;FMTTYPE=image/png:https://6-bricks-staging.rankreallyhigh.dev/wp-content/uploads/2023/07/green-meadows-logo.png
END:VEVENT
BEGIN:VEVENT
DTSTART;TZID=America/New_York:20230922T150000
DTEND;TZID=America/New_York:20230922T180000
DTSTAMP:20260419T231632
CREATED:20230901T135910Z
LAST-MODIFIED:20230901T135949Z
UID:10000099-1695394800-1695405600@6-bricks-staging.rankreallyhigh.dev
SUMMARY:Fall Flower Festival with ROOT & BLOOM
DESCRIPTION:Welcome to Fall Flower Festival – every Friday during September from 9am – 8pm or while supplies. Our vendor this week is ROOT & BLOOM with a pop-up from 3-6pm. Come check out their featured strains and also meet their team.
URL:https://6-bricks-staging.rankreallyhigh.dev/event/fall-flower-festival-with-root-bloom/
LOCATION:6 Brick’s Dispensary\, 1860 Main St\, Springfield\, MA\, 01103\, United States
ATTACH;FMTTYPE=image/jpeg:https://6-bricks-staging.rankreallyhigh.dev/wp-content/uploads/2023/09/Horizontal-TV-Screen_1-100-4.jpg
END:VEVENT
BEGIN:VEVENT
DTSTART;TZID=America/New_York:20230923T140000
DTEND;TZID=America/New_York:20230923T160000
DTSTAMP:20260419T231632
CREATED:20230918T140500Z
LAST-MODIFIED:20230918T140500Z
UID:10000104-1695477600-1695484800@6-bricks-staging.rankreallyhigh.dev
SUMMARY:The Pass pop-up
DESCRIPTION:Come join us for on September 23rd from 2pm-4pm for a pop-up with our friends from The Pass at 6Brick’s Dispensary 1860 Main St\, Springfield\, MA. \nABOUT THE PASS: The Pass grows clean\, crystalline cannabis\, for a full range of flavor and experience\, with an unwavering devotion to environmental stewardship. Our indoor\, greenhouse\, and farm field cultivation facilities have been correspondingly curated with unique genetics for yield\, purity\, and consistency. From germination to curing\, our experienced\, impassioned team employs mindfulness and methodology to unleash and harness the wonders of nature. We cultivate healthy plants with Berkshire water\, and proven technology for precise irrigation and climate control.
URL:https://6-bricks-staging.rankreallyhigh.dev/event/the-pass-pop-up/
LOCATION:6 Brick’s Dispensary\, 1860 Main St\, Springfield\, MA\, 01103\, United States
ATTACH;FMTTYPE=image/png:https://6-bricks-staging.rankreallyhigh.dev/wp-content/uploads/2023/05/The-Pass-logo.png
END:VEVENT
BEGIN:VEVENT
DTSTART;TZID=America/New_York:20230924T090000
DTEND;TZID=America/New_York:20230924T210000
DTSTAMP:20260419T231632
CREATED:20230901T025355Z
LAST-MODIFIED:20230901T025355Z
UID:10000094-1695546000-1695589200@6-bricks-staging.rankreallyhigh.dev
SUMMARY:1 Year Anniversary Celebration🎉🥳
DESCRIPTION:Celebrate 1 year of 6 Brick’s being in the 413 with pop-ups\, Batch Ice Cream Truck from 2-5pm\, spin the wheel\, and more!
URL:https://6-bricks-staging.rankreallyhigh.dev/event/1-year-anniversary-celebration%f0%9f%8e%89%f0%9f%a5%b3/
LOCATION:6 Brick’s Dispensary\, 1860 Main St\, Springfield\, MA\, 01103\, United States
ATTACH;FMTTYPE=image/jpeg:https://6-bricks-staging.rankreallyhigh.dev/wp-content/uploads/2023/08/6Bricks_1Y-Anniversary-Horizontal-TV-1.jpg
END:VEVENT
BEGIN:VEVENT
DTSTART;TZID=America/New_York:20230928T120000
DTEND;TZID=America/New_York:20230928T150000
DTSTAMP:20260419T231632
CREATED:20230913T173144Z
LAST-MODIFIED:20230913T173144Z
UID:10000103-1695902400-1695913200@6-bricks-staging.rankreallyhigh.dev
SUMMARY:The Botanist pop-up
DESCRIPTION:Come join us for on September 28th from 12pm-3pm for a pop-up with our friends from The Botanist at 6Brick’s Dispensary 1860 Main St\, Springfield\, MA. \nABOUT THE BOTANIST: The Botanist was born from a desire to serve the needs of people who seek potential relief and balance\, and we are proud to offer a variety of cannabis-derived products and services for our Medical Card Holders. We are here to help guide our guests as they discover cannabis and the potential power of herbal wellness through cannabis expertise and education.
URL:https://6-bricks-staging.rankreallyhigh.dev/event/the-botanist-pop-up/
LOCATION:6 Brick’s Dispensary\, 1860 Main St\, Springfield\, MA\, 01103\, United States
ATTACH;FMTTYPE=image/png:https://6-bricks-staging.rankreallyhigh.dev/wp-content/uploads/2023/09/BONTANIST.png
END:VEVENT
BEGIN:VEVENT
DTSTART;VALUE=DATE:20230929
DTEND;VALUE=DATE:20230930
DTSTAMP:20260419T231632
CREATED:20230918T141412Z
LAST-MODIFIED:20230918T141412Z
UID:10000106-1695945600-1696031999@6-bricks-staging.rankreallyhigh.dev
SUMMARY:Fall Flower Festival with IMPRESSED
DESCRIPTION:Welcome to Fall Flower Festival – every Friday during September from 9am – 8pm or while supplies. This week\, our vendor is IMPRESSED\, check out their featured strains and meet their team.
URL:https://6-bricks-staging.rankreallyhigh.dev/event/fall-flower-festival-with-impressed/
LOCATION:6 Brick’s Dispensary\, 1860 Main St\, Springfield\, MA\, 01103\, United States
ATTACH;FMTTYPE=image/png:https://6-bricks-staging.rankreallyhigh.dev/wp-content/uploads/2023/09/IMPRESSED-LOGO.png
END:VEVENT
BEGIN:VEVENT
DTSTART;TZID=America/New_York:20230930T160000
DTEND;TZID=America/New_York:20230930T190000
DTSTAMP:20260419T231632
CREATED:20230918T141154Z
LAST-MODIFIED:20230920T022334Z
UID:10000105-1696089600-1696100400@6-bricks-staging.rankreallyhigh.dev
SUMMARY:HighTide pop-up
DESCRIPTION:Come join us for on September 30th from 4pm-7pm for a pop-up with our friends from HighTide at 6Brick’s Dispensary 1860 Main St\, Springfield\, MA. \nABOUT HIGHTIDE: HighTide is a premium cannabis-infused margarita made for tuning in\, not checking out. In a world that’s getting faster each day\, HighTide helps slow it down\, with each sip of our take on the classic cocktail grounding you naturally to life’s greatest moments. It’s a flavorful\, refreshing beverage made for enhancing socialization and establishing connections with real\, authentic conversation. That low-calorie beverage you can feel in your hands at the kickback that you can take at your own pace. In the end\, we aim to deliver a crisp\, hangover-free experience that forges memories made to be cherished — not forgotten.
URL:https://6-bricks-staging.rankreallyhigh.dev/event/petalfast-pop-up/
LOCATION:6 Brick’s Dispensary\, 1860 Main St\, Springfield\, MA\, 01103\, United States
ATTACH;FMTTYPE=image/png:https://6-bricks-staging.rankreallyhigh.dev/wp-content/uploads/2023/06/HighTide_Logo.png
END:VEVENT
END:VCALENDAR